
BEGIN:VCALENDAR
VERSION:2.0
PRODID:-//Institute for Bioengineering of Catalonia - ECPv6.15.20//NONSGML v1.0//EN
CALSCALE:GREGORIAN
METHOD:PUBLISH
X-WR-CALNAME:Institute for Bioengineering of Catalonia
X-ORIGINAL-URL:https://ibecbarcelona.eu/ca/
X-WR-CALDESC:Esdeveniments per Institute for Bioengineering of Catalonia
REFRESH-INTERVAL;VALUE=DURATION:PT1H
X-Robots-Tag:noindex
X-PUBLISHED-TTL:PT1H
BEGIN:VTIMEZONE
TZID:Europe/Madrid
BEGIN:DAYLIGHT
TZOFFSETFROM:+0100
TZOFFSETTO:+0200
TZNAME:CEST
DTSTART:20220327T010000
END:DAYLIGHT
BEGIN:STANDARD
TZOFFSETFROM:+0200
TZOFFSETTO:+0100
TZNAME:CET
DTSTART:20221030T010000
END:STANDARD
BEGIN:DAYLIGHT
TZOFFSETFROM:+0100
TZOFFSETTO:+0200
TZNAME:CEST
DTSTART:20230326T010000
END:DAYLIGHT
BEGIN:STANDARD
TZOFFSETFROM:+0200
TZOFFSETTO:+0100
TZNAME:CET
DTSTART:20231029T010000
END:STANDARD
BEGIN:DAYLIGHT
TZOFFSETFROM:+0100
TZOFFSETTO:+0200
TZNAME:CEST
DTSTART:20240331T010000
END:DAYLIGHT
BEGIN:STANDARD
TZOFFSETFROM:+0200
TZOFFSETTO:+0100
TZNAME:CET
DTSTART:20241027T010000
END:STANDARD
END:VTIMEZONE
BEGIN:VEVENT
DTSTART;TZID=Europe/Madrid:20231027T110000
DTEND;TZID=Europe/Madrid:20231027T170000
DTSTAMP:20260425T144010
CREATED:20231024T143039Z
LAST-MODIFIED:20231024T145618Z
UID:111800-1698404400-1698426000@ibecbarcelona.eu
SUMMARY:PhD Thesis Defense: Karen Wells Cembrano
DESCRIPTION:Development of 3D in vitro platforms for the study of muscle function and axonal growth and regeneration\n\n\n\n\nAuthor: Karen Wells Cembrano\, Molecular and cellular neurobiotechnology group\n\n\nReading date: 27/10/2023\nReading time: 11:00 \n\n\nReading place: Aula de Graus\, Biology Faculty\, UB \n\nTeams Link here.
URL:https://ibecbarcelona.eu/ca/event/phd-thesis-defense-karen-wells-cembrano/
CATEGORIES:PhD Thesis Defence
END:VEVENT
END:VCALENDAR