
BEGIN:VCALENDAR
VERSION:2.0
PRODID:-//Institute for Bioengineering of Catalonia - ECPv6.15.20//NONSGML v1.0//EN
CALSCALE:GREGORIAN
METHOD:PUBLISH
X-ORIGINAL-URL:https://ibecbarcelona.eu/ca/
X-WR-CALDESC:Esdeveniments per Institute for Bioengineering of Catalonia
REFRESH-INTERVAL;VALUE=DURATION:PT1H
X-Robots-Tag:noindex
X-PUBLISHED-TTL:PT1H
BEGIN:VTIMEZONE
TZID:Europe/Madrid
BEGIN:DAYLIGHT
TZOFFSETFROM:+0100
TZOFFSETTO:+0200
TZNAME:CEST
DTSTART:20230326T010000
END:DAYLIGHT
BEGIN:STANDARD
TZOFFSETFROM:+0200
TZOFFSETTO:+0100
TZNAME:CET
DTSTART:20231029T010000
END:STANDARD
BEGIN:DAYLIGHT
TZOFFSETFROM:+0100
TZOFFSETTO:+0200
TZNAME:CEST
DTSTART:20240331T010000
END:DAYLIGHT
BEGIN:STANDARD
TZOFFSETFROM:+0200
TZOFFSETTO:+0100
TZNAME:CET
DTSTART:20241027T010000
END:STANDARD
BEGIN:DAYLIGHT
TZOFFSETFROM:+0100
TZOFFSETTO:+0200
TZNAME:CEST
DTSTART:20250330T010000
END:DAYLIGHT
BEGIN:STANDARD
TZOFFSETFROM:+0200
TZOFFSETTO:+0100
TZNAME:CET
DTSTART:20251026T010000
END:STANDARD
END:VTIMEZONE
BEGIN:VEVENT
DTSTART;TZID=Europe/Madrid:20240926T100000
DTEND;TZID=Europe/Madrid:20240926T130000
DTSTAMP:20260421T112038
CREATED:20240904T154550Z
LAST-MODIFIED:20240916T103851Z
UID:120263-1727344800-1727355600@ibecbarcelona.eu
SUMMARY:PhD Thesis Defense: Marco Vigo
DESCRIPTION:Investigating therapeutic targeting to intercellular adhesion molecule 1 through epitope\, isoform\, and cross-reactivity selection\n\n\n\n\nAuthor: Marco Vigo\, Targeted Therapeutics and Nanodevices and Nanobioengineering group\n\n\nReading date: 26/09/2024\nReading time: 10:00 \n\n\nReading place: Facultat de Medicina de la Universitat de Barcelona – Aula 4.1 \nIf you want to join online\, you can connect via Teams here. \n 
URL:https://ibecbarcelona.eu/ca/event/phd-thesis-defense-marco-vigo/
LOCATION:Facultat de Medicina de la Universitat de Barcelona – Aula 4.1
CATEGORIES:PhD Thesis Defence
END:VEVENT
END:VCALENDAR