
BEGIN:VCALENDAR
VERSION:2.0
PRODID:-//Institute for Bioengineering of Catalonia - ECPv6.15.20//NONSGML v1.0//EN
CALSCALE:GREGORIAN
METHOD:PUBLISH
X-WR-CALNAME:Institute for Bioengineering of Catalonia
X-ORIGINAL-URL:https://ibecbarcelona.eu
X-WR-CALDESC:Events for Institute for Bioengineering of Catalonia
REFRESH-INTERVAL;VALUE=DURATION:PT1H
X-Robots-Tag:noindex
X-PUBLISHED-TTL:PT1H
BEGIN:VTIMEZONE
TZID:Europe/Madrid
BEGIN:DAYLIGHT
TZOFFSETFROM:+0100
TZOFFSETTO:+0200
TZNAME:CEST
DTSTART:20220327T010000
END:DAYLIGHT
BEGIN:STANDARD
TZOFFSETFROM:+0200
TZOFFSETTO:+0100
TZNAME:CET
DTSTART:20221030T010000
END:STANDARD
BEGIN:DAYLIGHT
TZOFFSETFROM:+0100
TZOFFSETTO:+0200
TZNAME:CEST
DTSTART:20230326T010000
END:DAYLIGHT
BEGIN:STANDARD
TZOFFSETFROM:+0200
TZOFFSETTO:+0100
TZNAME:CET
DTSTART:20231029T010000
END:STANDARD
BEGIN:DAYLIGHT
TZOFFSETFROM:+0100
TZOFFSETTO:+0200
TZNAME:CEST
DTSTART:20240331T010000
END:DAYLIGHT
BEGIN:STANDARD
TZOFFSETFROM:+0200
TZOFFSETTO:+0100
TZNAME:CET
DTSTART:20241027T010000
END:STANDARD
END:VTIMEZONE
BEGIN:VEVENT
DTSTART;TZID=Europe/Madrid:20230921T080000
DTEND;TZID=Europe/Madrid:20230921T170000
DTSTAMP:20260423T055749
CREATED:20230907T152119Z
LAST-MODIFIED:20230907T152119Z
UID:110774-1695283200-1695315600@ibecbarcelona.eu
SUMMARY:The Future Now: Emerging Leaders in Biomedicine
DESCRIPTION:We are delighted to announce the first edition of the symposium “The Future Now: Emerging Leaders in Biomedicine“. This event is specifically tailored for advanced postdoctoral researchers and junior Group Leaders who are at the forefront of the vibrant biomedical community of the Barcelona area. Join us at the Josep Carreras Leukaemia Research Institute (IJC) on September 21\, 2023. This Symposium is co-organized by the Josep Carreras Leukaemia Research Institute (IJC)\, the Vall d’Hebrón Institute of Oncology (VHIO)\, the Institute for Bioengineering of Catalonia (IBEC)\,the Institute of Molecular Biology of Barcelona (IBMB)\, the Centre for Genomic Regulation (CRG) and the University Pompeu Fabra\, Department of Medicine and Life Science. \n\nThis symposium will be a unique opportunity for emerging leaders in biomedicine of the region to network\, showcase their cutting-edge research\, and foster collaborations. By participating in this event\, early-career researchers will gain visibility\, build valuable connections\, and contribute to strengthening the local scientific ecosystem. \n\nThe program features a rich scientific agenda encompassing diverse disciplines within biomedicine\, with oral presentations from distinguished young researchers covering basic and translational research\, as well as cutting edge technologies. We will hold an engaging round table discussion focused on the relevant challenges faced by researchers at different stages of becoming independent investigators. Please find the program of the Symposium here. \nThe Emerging Leaders Symposium receives the support of Miltenyi Biotec\, Macrogen\, BGI Genomics\, Bonsai Lab & Labclinics. \n\nREGISTRATION:\n\nWe extend a warm invitation to all postdoctoral researchers and junior Group Leaders in the Barcelona area to join us at the “Emerging Leaders in Biomedicine” symposium. \n\n\nAll participants of the event need to register via the following link: https://forms.office.com/e/LfGzP4tMJT\nRegistration is free.\nDeadline for registration is September 8\, 2023.\n\n\nBy coming together\, we can shape the future of biomedicine\, establish enduring connections\, and contribute to the advancement of science in our local community and beyond. \n\nEMERGING LEADERS BOOK\n\nAttendees will have the opportunity to present their research interests through virtual short presentations in the “Emerging Leaders Book”\, fostering in-depth discussions and providing constructive feedback during the networking session and beyond. It’s an excellent opportunity for participants to refine their research ideas and expand their scientific horizons. \n\nAll participants wishing to appear in the “Emerging Leaders Book” must send their information via the following link before September 8\, 2023: https://forms.office.com/e/pWPrj1rhK6
URL:https://ibecbarcelona.eu/event/the-future-now-emerging-leaders-in-biomedicine/
LOCATION:Josep Carreras Leukaemia Research Institute
CATEGORIES:External symposium / conference / congress
END:VEVENT
END:VCALENDAR