
BEGIN:VCALENDAR
VERSION:2.0
PRODID:-//Institute for Bioengineering of Catalonia - ECPv6.15.20//NONSGML v1.0//EN
CALSCALE:GREGORIAN
METHOD:PUBLISH
X-ORIGINAL-URL:https://ibecbarcelona.eu
X-WR-CALDESC:Events for Institute for Bioengineering of Catalonia
REFRESH-INTERVAL;VALUE=DURATION:PT1H
X-Robots-Tag:noindex
X-PUBLISHED-TTL:PT1H
BEGIN:VTIMEZONE
TZID:Europe/Madrid
BEGIN:DAYLIGHT
TZOFFSETFROM:+0100
TZOFFSETTO:+0200
TZNAME:CEST
DTSTART:20220327T010000
END:DAYLIGHT
BEGIN:STANDARD
TZOFFSETFROM:+0200
TZOFFSETTO:+0100
TZNAME:CET
DTSTART:20221030T010000
END:STANDARD
BEGIN:DAYLIGHT
TZOFFSETFROM:+0100
TZOFFSETTO:+0200
TZNAME:CEST
DTSTART:20230326T010000
END:DAYLIGHT
BEGIN:STANDARD
TZOFFSETFROM:+0200
TZOFFSETTO:+0100
TZNAME:CET
DTSTART:20231029T010000
END:STANDARD
BEGIN:DAYLIGHT
TZOFFSETFROM:+0100
TZOFFSETTO:+0200
TZNAME:CEST
DTSTART:20240331T010000
END:DAYLIGHT
BEGIN:STANDARD
TZOFFSETFROM:+0200
TZOFFSETTO:+0100
TZNAME:CET
DTSTART:20241027T010000
END:STANDARD
END:VTIMEZONE
BEGIN:VEVENT
DTSTART;TZID=Europe/Madrid:20231214T103000
DTEND;TZID=Europe/Madrid:20231214T140000
DTSTAMP:20260423T031721
CREATED:20231128T140435Z
LAST-MODIFIED:20231128T140435Z
UID:112919-1702549800-1702562400@ibecbarcelona.eu
SUMMARY:Nanomed Spain: JORNADA SOBRE PROYECTOS DE COLABORACIÓN PÚBLICO-PRIVADA 2023 (Spanish)
DESCRIPTION:NANOMEDSPAIN organizes together with the Leitat technology center a conference on the call for Public-Private Collaboration Projects that will open at the beginning of 2024. \nMª Estefanía Freitas\, Deputy Head of the Scientific-Technical Thematic Programs Branch of the State Research Agency\, Ministry of Science and Innovation\, will present the most important aspects and main novelties of the call. \nThe day will also have the possibility of holding meetings between interested parties and Mª Estefanía Freitas\, and B2B meetings between those attending the day. \nThis event will be in Spanish.
URL:https://ibecbarcelona.eu/event/nanomed-spain-jornada-sobre-proyectos-de-colaboracion-publico-privada-2023-spanish/
LOCATION:Cambra de Comerç\, Av. Diagonal\, 452 – 454\, Barcelona
CATEGORIES:External seminar,Professional and Personal Development
END:VEVENT
END:VCALENDAR