
BEGIN:VCALENDAR
VERSION:2.0
PRODID:-//Institute for Bioengineering of Catalonia - ECPv6.15.20//NONSGML v1.0//EN
CALSCALE:GREGORIAN
METHOD:PUBLISH
X-WR-CALNAME:Institute for Bioengineering of Catalonia
X-ORIGINAL-URL:https://ibecbarcelona.eu
X-WR-CALDESC:Events for Institute for Bioengineering of Catalonia
REFRESH-INTERVAL;VALUE=DURATION:PT1H
X-Robots-Tag:noindex
X-PUBLISHED-TTL:PT1H
BEGIN:VTIMEZONE
TZID:Europe/Madrid
BEGIN:DAYLIGHT
TZOFFSETFROM:+0100
TZOFFSETTO:+0200
TZNAME:CEST
DTSTART:20230326T010000
END:DAYLIGHT
BEGIN:STANDARD
TZOFFSETFROM:+0200
TZOFFSETTO:+0100
TZNAME:CET
DTSTART:20231029T010000
END:STANDARD
BEGIN:DAYLIGHT
TZOFFSETFROM:+0100
TZOFFSETTO:+0200
TZNAME:CEST
DTSTART:20240331T010000
END:DAYLIGHT
BEGIN:STANDARD
TZOFFSETFROM:+0200
TZOFFSETTO:+0100
TZNAME:CET
DTSTART:20241027T010000
END:STANDARD
BEGIN:DAYLIGHT
TZOFFSETFROM:+0100
TZOFFSETTO:+0200
TZNAME:CEST
DTSTART:20250330T010000
END:DAYLIGHT
BEGIN:STANDARD
TZOFFSETFROM:+0200
TZOFFSETTO:+0100
TZNAME:CET
DTSTART:20251026T010000
END:STANDARD
END:VTIMEZONE
BEGIN:VEVENT
DTSTART;TZID=Europe/Madrid:20240201T093000
DTEND;TZID=Europe/Madrid:20240201T123000
DTSTAMP:20260422T232335
CREATED:20240115T102811Z
LAST-MODIFIED:20240115T102811Z
UID:114094-1706779800-1706790600@ibecbarcelona.eu
SUMMARY:Nanodía Mundial Contra el Cáncer
DESCRIPTION:This event will be held in Spanish \nEl Nanodía Mundial Contra el Cáncer es un evento organizado en el marco del Día Mundial contra el Cáncer donde se darán a conocer las últimas innovaciones en materia de NANOMEDICINA contra el CÁNCER\, con temas que van desde el diagnóstico precoz\, la liberación controlada de fármacos o la radioterapia con nanopartículas. \nUn año más\, expertos en NANOMEDICINA de diferentes campos -investigadores\, empresarios\, médicos oncólogos\, pacientes\, etc.-\,  expondrán los últimos avances y nos darán la oportunidad de descubrir el generador de progreso que la NANOMEDICINA significa para la salud como creador de nuevas oportunidades en el diagnóstico y el tratamiento del cáncer y como podemos contribuir en la misión Europea contra el cáncer. \nNANOMED Spain organiza la edición de este año con la colaboración de la Asociación Española contra el Cáncer. \nRegistro e información aquí.
URL:https://ibecbarcelona.eu/event/nanodia-mundial-contra-el-cancer-2/
LOCATION:Sede Barcelona Asociación Española contra el Cáncer (AECC) Travessera de les Corts\, 268
CATEGORIES:External symposium / conference / congress
END:VEVENT
BEGIN:VEVENT
DTSTART;TZID=Europe/Madrid:20240219T090000
DTEND;TZID=Europe/Madrid:20240219T130000
DTSTAMP:20260422T232335
CREATED:20240125T155333Z
LAST-MODIFIED:20240125T155333Z
UID:114999-1708333200-1708347600@ibecbarcelona.eu
SUMMARY:CATCAT Mechanobiology Morning
DESCRIPTION:Cell and Tissue Research in Catalonia (CATCAT) brings together research groups from different institutes\, focusing on understanding cellular and molecular mechanisms driving fundamental biological processes. \nThis new session will be focused on Mechanobiology. \n  \n9:15 – 9:30 Welcome9:30 – 10:10 Kevin Chalut (Altos Labs) “Extracellular matrix drives tissue regeneration” \n10.10 – 10:25 Lucas Cunha (UPF) “Mechanics and cell behaviours underlying the epithelialization of the otic placode.” \n10:25 – 10:40 Waleed Mirza (EMBL Barcelona) “Modelling the active self organisation of stress fibres in spread cells” \n10:40 – 11:10 Coffee Break \n11:10 – 11:50 María García-Parajo (ICFO) “Insights on the organization and differential activation of integrins inside adhesions” \n11:50 – 12:05 Fabio Pezzano (CRG) “Regulation of cell fitness under mechanical stress by nuclear ATP” \n12:05 – 12:20 Marija Matejcic (IBEC) “Mechanics of cell extrusion in open-lumen intestinal organoids” \n12:20 – 13:00 Ewa Paluch (Cambridge University) “The biomechanics of cell shape control”
URL:https://ibecbarcelona.eu/event/catcat-mechanobiology-morning/
LOCATION:Auditori Antoni Caparrós\, PCB\, Tower D\, c/Baldiri Reixac 4-8\, Barcelona\, Spain
CATEGORIES:External symposium / conference / congress
END:VEVENT
END:VCALENDAR