
BEGIN:VCALENDAR
VERSION:2.0
PRODID:-//Institute for Bioengineering of Catalonia - ECPv6.15.20//NONSGML v1.0//EN
CALSCALE:GREGORIAN
METHOD:PUBLISH
X-ORIGINAL-URL:https://ibecbarcelona.eu
X-WR-CALDESC:Events for Institute for Bioengineering of Catalonia
REFRESH-INTERVAL;VALUE=DURATION:PT1H
X-Robots-Tag:noindex
X-PUBLISHED-TTL:PT1H
BEGIN:VTIMEZONE
TZID:Europe/Madrid
BEGIN:DAYLIGHT
TZOFFSETFROM:+0100
TZOFFSETTO:+0200
TZNAME:CEST
DTSTART:20230326T010000
END:DAYLIGHT
BEGIN:STANDARD
TZOFFSETFROM:+0200
TZOFFSETTO:+0100
TZNAME:CET
DTSTART:20231029T010000
END:STANDARD
BEGIN:DAYLIGHT
TZOFFSETFROM:+0100
TZOFFSETTO:+0200
TZNAME:CEST
DTSTART:20240331T010000
END:DAYLIGHT
BEGIN:STANDARD
TZOFFSETFROM:+0200
TZOFFSETTO:+0100
TZNAME:CET
DTSTART:20241027T010000
END:STANDARD
BEGIN:DAYLIGHT
TZOFFSETFROM:+0100
TZOFFSETTO:+0200
TZNAME:CEST
DTSTART:20250330T010000
END:DAYLIGHT
BEGIN:STANDARD
TZOFFSETFROM:+0200
TZOFFSETTO:+0100
TZNAME:CET
DTSTART:20251026T010000
END:STANDARD
END:VTIMEZONE
BEGIN:VEVENT
DTSTART;TZID=Europe/Madrid:20240625T140000
DTEND;TZID=Europe/Madrid:20240625T170000
DTSTAMP:20260422T192322
CREATED:20240610T071836Z
LAST-MODIFIED:20240610T071836Z
UID:118413-1719324000-1719334800@ibecbarcelona.eu
SUMMARY:Seminar SparkCyto TECAN
DESCRIPTION:Multimode User Day\nAgenda:\n1. Absorbance\, Fluorescence and Luminescence\nreading modes\n1. Incubation options: gas\, temperature\, shaking\, injectors\,…\n2. Brightfield Imaging\n3. Fluorescence Imaging\n4. Hands-on session: SparkCyto \n  \nWhere? Parc Científic de Barcelona\nc/Baldiri Reixach\, 10. Torre I\, Floor 11\, Sala Baobab (IBEC)\nWhen? 25th June 2024 (Tuesday)\, 14-17h\nOrganizer: Institute for Bioengineering of Catalonia – Tecan\nTecan speaker: Nicola Vettore (application specialist)\nRegistration: https://forms.office.com/e/6mMYTESqe6
URL:https://ibecbarcelona.eu/event/seminar-sparkcyto-tecan/
LOCATION:Sala Dolors Aleu\, Cluster II\, IBEC\, Baldiri i Reixac\, Barcelona
CATEGORIES:External seminar
END:VEVENT
END:VCALENDAR