
BEGIN:VCALENDAR
VERSION:2.0
PRODID:-//Institute for Bioengineering of Catalonia - ECPv6.15.20//NONSGML v1.0//EN
CALSCALE:GREGORIAN
METHOD:PUBLISH
X-ORIGINAL-URL:https://ibecbarcelona.eu
X-WR-CALDESC:Events for Institute for Bioengineering of Catalonia
REFRESH-INTERVAL;VALUE=DURATION:PT1H
X-Robots-Tag:noindex
X-PUBLISHED-TTL:PT1H
BEGIN:VTIMEZONE
TZID:Europe/Madrid
BEGIN:DAYLIGHT
TZOFFSETFROM:+0100
TZOFFSETTO:+0200
TZNAME:CEST
DTSTART:20160327T010000
END:DAYLIGHT
BEGIN:STANDARD
TZOFFSETFROM:+0200
TZOFFSETTO:+0100
TZNAME:CET
DTSTART:20161030T010000
END:STANDARD
BEGIN:DAYLIGHT
TZOFFSETFROM:+0100
TZOFFSETTO:+0200
TZNAME:CEST
DTSTART:20170326T010000
END:DAYLIGHT
BEGIN:STANDARD
TZOFFSETFROM:+0200
TZOFFSETTO:+0100
TZNAME:CET
DTSTART:20171029T010000
END:STANDARD
BEGIN:DAYLIGHT
TZOFFSETFROM:+0100
TZOFFSETTO:+0200
TZNAME:CEST
DTSTART:20180325T010000
END:DAYLIGHT
BEGIN:STANDARD
TZOFFSETFROM:+0200
TZOFFSETTO:+0100
TZNAME:CET
DTSTART:20181028T010000
END:STANDARD
END:VTIMEZONE
BEGIN:VEVENT
DTSTART;TZID=Europe/Madrid:20170602T100000
DTEND;TZID=Europe/Madrid:20170602T110000
DTSTAMP:20260422T072949
CREATED:20170529T132500Z
LAST-MODIFIED:20170530T125041Z
UID:29677-1496397600-1496401200@ibecbarcelona.eu
SUMMARY:IBEC Seminar:  Esteve Trias & Oscar Fariñas\, BTB
DESCRIPTION:Research challenges of the Barcelona Tissue Bank\n Esteve Trias\, Oscar Fariñas – Barcelona Tissue Bank (Banc de Sang I Teixits)\nThe Barcelona Tissue Bank (BTB) is a multi-tissue bank which belongs to the Banc de Sang i Teixits (BST)\, a public company of the Department of Health of the Generalitat de Catalunya\, whose mission is to ensure the supply and proper use of blood and Tissue in Catalonia.\nThe BTB controls the entire process of donation and transplantation globally\, from the process of detection and evaluation of the potential donor\, obtention or extraction\, processing of the different tissues\, storage and distribution until transplantation.\nIn the BTB we can distinguish five major banks: ocular\, cardiovascular\, skin\, musculoskeletal and reproductive.\nMusculoskeletal tissue bank represents 50% of the activity of BTB\, covering approximately 85% of transplanted tissue in the Spanish state. Different types of tissues are processed through a decontamination process to ensure maximum security. The purpose of the great variety of processed tissues is to meet the different needs of surgeons\, being the most common ligament reconstruction\, filling bone defects\, tumour surgery and meniscal transplantation.\nResearch\, development and innovation of new products and processes are constant priorities to provide the best solution for patients by setting up different lines of R & D in the short\, medium and long term.
URL:https://ibecbarcelona.eu/event/seminario-de-id-del-banc-de-sang-i-teixits-bst/
LOCATION:IBEC\, floor 11\, Tower I\, Baldiri Reixac 4-8\, 08028 Barcelona\, Spain
CATEGORIES:IBEC Seminar
END:VEVENT
BEGIN:VEVENT
DTSTART;TZID=Europe/Madrid:20170602T100000
DTEND;TZID=Europe/Madrid:20170602T110000
DTSTAMP:20260422T072949
CREATED:20170529T132500Z
LAST-MODIFIED:20170529T132500Z
UID:96068-1496397600-1496401200@ibecbarcelona.eu
SUMMARY:IBEC Seminar:  Esteve Trias & Oscar Fariñas\, BTB
DESCRIPTION:Research challenges of the Barcelona Tissue Bank\n Esteve Trias\, Oscar Fariñas – Barcelona Tissue Bank (Banc de Sang I Teixits)\nThe Barcelona Tissue Bank (BTB) is a multi-tissue bank which belongs to the Banc de Sang i Teixits (BST)\, a public company of the Department of Health of the Generalitat de Catalunya\, whose mission is to ensure the supply and proper use of blood and Tissue in Catalonia.\nThe BTB controls the entire process of donation and transplantation globally\, from the process of detection and evaluation of the potential donor\, obtention or extraction\, processing of the different tissues\, storage and distribution until transplantation.\nIn the BTB we can distinguish five major banks: ocular\, cardiovascular\, skin\, musculoskeletal and reproductive.\nMusculoskeletal tissue bank represents 50% of the activity of BTB\, covering approximately 85% of transplanted tissue in the Spanish state. Different types of tissues are processed through a decontamination process to ensure maximum security. The purpose of the great variety of processed tissues is to meet the different needs of surgeons\, being the most common ligament reconstruction\, filling bone defects\, tumour surgery and meniscal transplantation.\nResearch\, development and innovation of new products and processes are constant priorities to provide the best solution for patients by setting up different lines of R & D in the short\, medium and long term.
URL:https://ibecbarcelona.eu/event/seminario-de-id-del-banc-de-sang-i-teixits-bst-2/
LOCATION:IBEC\, floor 11\, Tower I\, Baldiri Reixac 4-8\, 08028 Barcelona\, Spain
CATEGORIES:IBEC Seminar
END:VEVENT
END:VCALENDAR