
BEGIN:VCALENDAR
VERSION:2.0
PRODID:-//Institute for Bioengineering of Catalonia - ECPv6.15.20//NONSGML v1.0//EN
CALSCALE:GREGORIAN
METHOD:PUBLISH
X-WR-CALNAME:Institute for Bioengineering of Catalonia
X-ORIGINAL-URL:https://ibecbarcelona.eu
X-WR-CALDESC:Events for Institute for Bioengineering of Catalonia
REFRESH-INTERVAL;VALUE=DURATION:PT1H
X-Robots-Tag:noindex
X-PUBLISHED-TTL:PT1H
BEGIN:VTIMEZONE
TZID:Europe/Madrid
BEGIN:DAYLIGHT
TZOFFSETFROM:+0100
TZOFFSETTO:+0200
TZNAME:CEST
DTSTART:20160327T010000
END:DAYLIGHT
BEGIN:STANDARD
TZOFFSETFROM:+0200
TZOFFSETTO:+0100
TZNAME:CET
DTSTART:20161030T010000
END:STANDARD
BEGIN:DAYLIGHT
TZOFFSETFROM:+0100
TZOFFSETTO:+0200
TZNAME:CEST
DTSTART:20170326T010000
END:DAYLIGHT
BEGIN:STANDARD
TZOFFSETFROM:+0200
TZOFFSETTO:+0100
TZNAME:CET
DTSTART:20171029T010000
END:STANDARD
BEGIN:DAYLIGHT
TZOFFSETFROM:+0100
TZOFFSETTO:+0200
TZNAME:CEST
DTSTART:20180325T010000
END:DAYLIGHT
BEGIN:STANDARD
TZOFFSETFROM:+0200
TZOFFSETTO:+0100
TZNAME:CET
DTSTART:20181028T010000
END:STANDARD
END:VTIMEZONE
BEGIN:VEVENT
DTSTART;TZID=Europe/Madrid:20170928T143000
DTEND;TZID=Europe/Madrid:20170928T153000
DTSTAMP:20260422T110823
CREATED:20170922T075539Z
LAST-MODIFIED:20170922T075807Z
UID:31465-1506609000-1506612600@ibecbarcelona.eu
SUMMARY:IBEC Seminar: Silvain Muller\, RegenHu
DESCRIPTION:Bioprinting Software for the RegenHU 3DBioprinting System\nSilvain Muller\, RegenHu\nBioprinting is a dynamic and exciting stage of evolution where\, recently\, considerable progress has been accomplished globally in the field of tissue engineering and bioprinting. These developments have in turn led to ground-breaking advancements in Bioprinting leading from fundamental research to Applied research and Clinical testing. Key components in the successful transition of this evolution are the software tools specifically designed to enable interaction between the hardware\, the biology and the users. \nDuring this seminar Silvain Muller from RegenHu will describe the capabilities of our 3D Bioprinter (3D Discovery) and will perform a presentation of the software package associated that that enables the design of complex structures and scaffolds and the transformation of DICOM images to 3D-bioprinted constructs.
URL:https://ibecbarcelona.eu/event/ibec-seminar-silvain-muller-regenhu/
LOCATION:IBEC\, floor 11\, Tower I\, Baldiri Reixac 4-8\, 08028 Barcelona\, Spain
CATEGORIES:IBEC Seminar
END:VEVENT
BEGIN:VEVENT
DTSTART;TZID=Europe/Madrid:20170928T143000
DTEND;TZID=Europe/Madrid:20170928T153000
DTSTAMP:20260422T110823
CREATED:20170922T075539Z
LAST-MODIFIED:20170922T075539Z
UID:96099-1506609000-1506612600@ibecbarcelona.eu
SUMMARY:IBEC Seminar: Silvain Muller\, RegenHu
DESCRIPTION:Bioprinting Software for the RegenHU 3DBioprinting System\nSilvain Muller\, RegenHu\nBioprinting is a dynamic and exciting stage of evolution where\, recently\, considerable progress has been accomplished globally in the field of tissue engineering and bioprinting. These developments have in turn led to ground-breaking advancements in Bioprinting leading from fundamental research to Applied research and Clinical testing. Key components in the successful transition of this evolution are the software tools specifically designed to enable interaction between the hardware\, the biology and the users. \nDuring this seminar Silvain Muller from RegenHu will describe the capabilities of our 3D Bioprinter (3D Discovery) and will perform a presentation of the software package associated that that enables the design of complex structures and scaffolds and the transformation of DICOM images to 3D-bioprinted constructs.
URL:https://ibecbarcelona.eu/event/ibec-seminar-silvain-muller-regenhu-2/
LOCATION:IBEC\, floor 11\, Tower I\, Baldiri Reixac 4-8\, 08028 Barcelona\, Spain
CATEGORIES:IBEC Seminar
END:VEVENT
END:VCALENDAR