
BEGIN:VCALENDAR
VERSION:2.0
PRODID:-//Institute for Bioengineering of Catalonia - ECPv6.15.20//NONSGML v1.0//EN
CALSCALE:GREGORIAN
METHOD:PUBLISH
X-ORIGINAL-URL:https://ibecbarcelona.eu
X-WR-CALDESC:Events for Institute for Bioengineering of Catalonia
REFRESH-INTERVAL;VALUE=DURATION:PT1H
X-Robots-Tag:noindex
X-PUBLISHED-TTL:PT1H
BEGIN:VTIMEZONE
TZID:Europe/Madrid
BEGIN:DAYLIGHT
TZOFFSETFROM:+0100
TZOFFSETTO:+0200
TZNAME:CEST
DTSTART:20190331T010000
END:DAYLIGHT
BEGIN:STANDARD
TZOFFSETFROM:+0200
TZOFFSETTO:+0100
TZNAME:CET
DTSTART:20191027T010000
END:STANDARD
BEGIN:DAYLIGHT
TZOFFSETFROM:+0100
TZOFFSETTO:+0200
TZNAME:CEST
DTSTART:20200329T010000
END:DAYLIGHT
BEGIN:STANDARD
TZOFFSETFROM:+0200
TZOFFSETTO:+0100
TZNAME:CET
DTSTART:20201025T010000
END:STANDARD
BEGIN:DAYLIGHT
TZOFFSETFROM:+0100
TZOFFSETTO:+0200
TZNAME:CEST
DTSTART:20210328T010000
END:DAYLIGHT
BEGIN:STANDARD
TZOFFSETFROM:+0200
TZOFFSETTO:+0100
TZNAME:CET
DTSTART:20211031T010000
END:STANDARD
END:VTIMEZONE
BEGIN:VEVENT
DTSTART;TZID=Europe/Madrid:20200605T100000
DTEND;TZID=Europe/Madrid:20200605T120000
DTSTAMP:20260426T051133
CREATED:20200504T102718Z
LAST-MODIFIED:20200602T070514Z
UID:73835-1591351200-1591358400@ibecbarcelona.eu
SUMMARY:Online IBEC Seminar: Benedetta Bolognesi
DESCRIPTION:Deep mutagenesis to understand Protein Phase Transitions\n \nBenedetta Bolognesi \, IBEC \nSpecific insoluble protein aggregates are the hallmarks of many neurodegenerative diseases. Whether the protein aggregates themselves or other forms of the proteins are toxic to cells is still unclear in many of these diseases. This lack of understanding of the causes of cellular toxicity is reflected in the general failure of multiple therapeutic approaches so far attempted. The causes of this rely mainly on the lack of systematic approaches able to estimate in parallel the effect of mutations on cell viability as well as on protein conformation. Our lab uses deep mutagenesis as a systematic and unbiased approach to identify and investigate the toxic species of proteins. \nIn this seminar I will explain how we used this approach to report on the toxicity of thousands of protein sequences and how\, more recently\, we adapted this method to track more specific biochemical processes\, such as amyloid nucleation. Overall\, the results I will discuss demonstrate that deep mutagenesis is a powerful approach to study intrinsically disordered proteins and also illustrate that it can be used to genetically validate assays as discovery platforms. \nThe seminar will take place online at the GoToMeeting Platform \nKnow more about Benedetta Bolognesi’s research here
URL:https://ibecbarcelona.eu/event/online-ibec-seminar-benedetta-bolognesi/
CATEGORIES:IBEC Seminar
ORGANIZER;CN="IBEC":MAILTO:www.ibecbarcelona.eu
END:VEVENT
BEGIN:VEVENT
DTSTART;TZID=Europe/Madrid:20200626T100000
DTEND;TZID=Europe/Madrid:20200626T120000
DTSTAMP:20260426T051133
CREATED:20200605T081203Z
LAST-MODIFIED:20200618T100739Z
UID:74893-1593165600-1593172800@ibecbarcelona.eu
SUMMARY:Online IBEC Seminar: Pere Roca-Cusachs
DESCRIPTION:Sensing the matrix: transducing mechanical signals from integrins to the nucleus\n \nPere Roca-Cusachs \, IBEC \nCell proliferation and differentiation\, as well as key processes in development\, tumorigenesis\, and wound healing\, are strongly determined by the properties of the extracellular matrix (ECM)\, including its mechanical rigidity and the density and distribution of its ligands. In this talk\, I will explain how we combine molecular biology\, biophysical measurements\, and theoretical modelling to understand the mechanisms by which cells sense and respond to matrix properties. \nI will discuss how the properties under force of integrin-ECM bonds\, and of the adaptor protein talin\, drive and regulate matrix sensing. I will further discuss how this sensing can be understood through a computational molecular clutch model\, which can quantitatively predict the role of integrins\, talin\, myosin\, and ECM receptors\, and their effect on cell response. Finally\, I will analyze how signals triggered by rigidity at cell-ECM adhesions are transmitted to the nucleus\, leading to transcriptional regulation. \nThe seminar will take place online at the GoToMeeting Platform \nKnow more about Pere Roca-Cusachs’ research here
URL:https://ibecbarcelona.eu/event/online-ibec-seminar-pere-roca-cusachs/
LOCATION:IBEC
CATEGORIES:IBEC Seminar
END:VEVENT
END:VCALENDAR