
BEGIN:VCALENDAR
VERSION:2.0
PRODID:-//Institute for Bioengineering of Catalonia - ECPv6.15.20//NONSGML v1.0//EN
CALSCALE:GREGORIAN
METHOD:PUBLISH
X-WR-CALNAME:Institute for Bioengineering of Catalonia
X-ORIGINAL-URL:https://ibecbarcelona.eu
X-WR-CALDESC:Events for Institute for Bioengineering of Catalonia
REFRESH-INTERVAL;VALUE=DURATION:PT1H
X-Robots-Tag:noindex
X-PUBLISHED-TTL:PT1H
BEGIN:VTIMEZONE
TZID:Europe/Madrid
BEGIN:DAYLIGHT
TZOFFSETFROM:+0100
TZOFFSETTO:+0200
TZNAME:CEST
DTSTART:20240331T010000
END:DAYLIGHT
BEGIN:STANDARD
TZOFFSETFROM:+0200
TZOFFSETTO:+0100
TZNAME:CET
DTSTART:20241027T010000
END:STANDARD
BEGIN:DAYLIGHT
TZOFFSETFROM:+0100
TZOFFSETTO:+0200
TZNAME:CEST
DTSTART:20250330T010000
END:DAYLIGHT
BEGIN:STANDARD
TZOFFSETFROM:+0200
TZOFFSETTO:+0100
TZNAME:CET
DTSTART:20251026T010000
END:STANDARD
BEGIN:DAYLIGHT
TZOFFSETFROM:+0100
TZOFFSETTO:+0200
TZNAME:CEST
DTSTART:20260329T010000
END:DAYLIGHT
BEGIN:STANDARD
TZOFFSETFROM:+0200
TZOFFSETTO:+0100
TZNAME:CET
DTSTART:20261025T010000
END:STANDARD
END:VTIMEZONE
BEGIN:VEVENT
DTSTART;TZID=Europe/Madrid:20250411T100000
DTEND;TZID=Europe/Madrid:20250411T110000
DTSTAMP:20260424T123810
CREATED:20250404T103254Z
LAST-MODIFIED:20250404T103254Z
UID:125030-1744365600-1744369200@ibecbarcelona.eu
SUMMARY:PHD Discussion: Miquel Bosch
DESCRIPTION:Force transmission in embryonic-like epithelia\nMiquel Bosch (Integrative Cell and Tissue Dynamics Group) \nDeveloping an adult organism from an embryo is a complex task. Cells need to divide\, differentiate and arrange themselves in complex three-dimensional structures\, a process known as morphogenesis. Apical constriction is a conserved morphogenetic mechanism in the animal kingdom\, but the role of cellular forces during it remains understudied\, especially in the human case. For this reason\, we use human PSCs expressing a novel optogenetic tool\, OptoShroom3. This tool allows to induce apical constriction in vitro on demand\, with precise spatiotemporal control. We study force transmission within the cell layer and to the substrate and find that\, contrary to our intuition\, the apical and basal layer are effectively mechanically decoupled. This decoupling enables long range force transmission in this epiblast-like epithelia. Secondly\, we can study the rheology of the tissue on multiple time and length scales by analyzing the induced deformation field. Since the state of the art for development and disease modelling relies heavily on stem cell systems\, we foresee our study will have broad implications in the field whenever morphogenesis comes at play.
URL:https://ibecbarcelona.eu/event/phd-discussion-miquel-bosch/
LOCATION:Sala Dolors Aleu\, Cluster II\, IBEC\, Baldiri i Reixac\, Barcelona
CATEGORIES:PhD Discussions Session
END:VEVENT
END:VCALENDAR