
BEGIN:VCALENDAR
VERSION:2.0
PRODID:-//Institute for Bioengineering of Catalonia - ECPv6.15.20//NONSGML v1.0//EN
CALSCALE:GREGORIAN
METHOD:PUBLISH
X-WR-CALNAME:Institute for Bioengineering of Catalonia
X-ORIGINAL-URL:https://ibecbarcelona.eu
X-WR-CALDESC:Events for Institute for Bioengineering of Catalonia
REFRESH-INTERVAL;VALUE=DURATION:PT1H
X-Robots-Tag:noindex
X-PUBLISHED-TTL:PT1H
BEGIN:VTIMEZONE
TZID:Europe/Madrid
BEGIN:DAYLIGHT
TZOFFSETFROM:+0100
TZOFFSETTO:+0200
TZNAME:CEST
DTSTART:20250330T010000
END:DAYLIGHT
BEGIN:STANDARD
TZOFFSETFROM:+0200
TZOFFSETTO:+0100
TZNAME:CET
DTSTART:20251026T010000
END:STANDARD
BEGIN:DAYLIGHT
TZOFFSETFROM:+0100
TZOFFSETTO:+0200
TZNAME:CEST
DTSTART:20260329T010000
END:DAYLIGHT
BEGIN:STANDARD
TZOFFSETFROM:+0200
TZOFFSETTO:+0100
TZNAME:CET
DTSTART:20261025T010000
END:STANDARD
BEGIN:DAYLIGHT
TZOFFSETFROM:+0100
TZOFFSETTO:+0200
TZNAME:CEST
DTSTART:20270328T010000
END:DAYLIGHT
BEGIN:STANDARD
TZOFFSETFROM:+0200
TZOFFSETTO:+0100
TZNAME:CET
DTSTART:20271031T010000
END:STANDARD
END:VTIMEZONE
BEGIN:VEVENT
DTSTART;TZID=Europe/Madrid:20260424T093000
DTEND;TZID=Europe/Madrid:20260424T133000
DTSTAMP:20260422T112653
CREATED:20260410T062529Z
LAST-MODIFIED:20260410T062900Z
UID:133165-1777023000-1777037400@ibecbarcelona.eu
SUMMARY:Thematic Network. NET-AI Workshop 4: ML for data augmentation and compression and model explicability
DESCRIPTION:This 4th workshop of the NET-AI will cover key practical aspects of machine learning as it applies to the biomedical field\, such as data availability\, data management and interpretation of model outcomes. Through three talks by experts in the field\, novel methodologies for generating synthetic while realistic tabular data to complete incomplete datasets\, data augmentation strategies\, explainability techniques\, and image compression models will be presented.  \n  \nAGENDA  \n9:40 – 10:00 Welcome\n10:00 – 11:00 Cecilio Angulo\n11:00 – 11:30 Coffee break\n11:30 – 12:30 Kevin Barrera\n12:30 – 13:30 Alessia Amelio\n13:30 – 13:40 Closure  \nYou can register here. \n 
URL:https://ibecbarcelona.eu/event/thematic-network-net-ai-workshop-4-ml-for-data-augmentation-and-compression-and-model-explicabilit/
END:VEVENT
BEGIN:VEVENT
DTSTART;TZID=Europe/Madrid:20260430T104500
DTEND;TZID=Europe/Madrid:20260430T130000
DTSTAMP:20260422T112653
CREATED:20260320T095836Z
LAST-MODIFIED:20260320T095836Z
UID:132910-1777545900-1777554000@ibecbarcelona.eu
SUMMARY:Research4talent
DESCRIPTION:The event offers you the opportunity to engage with our researchers and inquire about their day-to-day work in the lab\, career trajectories\, work-life balance\, mobility\, etc. \nIn 2025\, IBEC signed more than 140 internship agreements for undergraduate and master’s students with a wide range of national and international universities. \n\n\nPROGRAMME · 30th April 2026 \n\n\n\n\n\n\n\n10:45\nWelcome\n\n\n11:00\nDeputy talent and training director talk. Elisabeth Engel\, “What is IBEC?”\n\n\n11:20\nPeople Management Speech\n\n\n11:30\nPhD Committee presentation\n\n\n\n-Coffee break-\n\n\n11:45\nCareers Fair*: a chance for participants to mingle and chat with our researchers.\n\n\n13:00\nLabs visits\n\n\n\n\n\nIf you are interested in IBEC’s twelfth edition of reSEARCH4TALENT\, please register.
URL:https://ibecbarcelona.eu/event/research4talent-8/
LOCATION:Sala Dolors Aleu\, Cluster II\, IBEC\, Baldiri i Reixac\, Barcelona
CATEGORIES:IBEC Symposium / Conference / Congress / Workshop
END:VEVENT
END:VCALENDAR