
BEGIN:VCALENDAR
VERSION:2.0
PRODID:-//Institute for Bioengineering of Catalonia - ECPv6.15.20//NONSGML v1.0//EN
CALSCALE:GREGORIAN
METHOD:PUBLISH
X-WR-CALNAME:Institute for Bioengineering of Catalonia
X-ORIGINAL-URL:https://ibecbarcelona.eu
X-WR-CALDESC:Events for Institute for Bioengineering of Catalonia
REFRESH-INTERVAL;VALUE=DURATION:PT1H
X-Robots-Tag:noindex
X-PUBLISHED-TTL:PT1H
BEGIN:VTIMEZONE
TZID:Europe/Madrid
BEGIN:DAYLIGHT
TZOFFSETFROM:+0100
TZOFFSETTO:+0200
TZNAME:CEST
DTSTART:20210328T010000
END:DAYLIGHT
BEGIN:STANDARD
TZOFFSETFROM:+0200
TZOFFSETTO:+0100
TZNAME:CET
DTSTART:20211031T010000
END:STANDARD
BEGIN:DAYLIGHT
TZOFFSETFROM:+0100
TZOFFSETTO:+0200
TZNAME:CEST
DTSTART:20220327T010000
END:DAYLIGHT
BEGIN:STANDARD
TZOFFSETFROM:+0200
TZOFFSETTO:+0100
TZNAME:CET
DTSTART:20221030T010000
END:STANDARD
BEGIN:DAYLIGHT
TZOFFSETFROM:+0100
TZOFFSETTO:+0200
TZNAME:CEST
DTSTART:20230326T010000
END:DAYLIGHT
BEGIN:STANDARD
TZOFFSETFROM:+0200
TZOFFSETTO:+0100
TZNAME:CET
DTSTART:20231029T010000
END:STANDARD
END:VTIMEZONE
BEGIN:VEVENT
DTSTART;TZID=Europe/Madrid:20220112T113000
DTEND;TZID=Europe/Madrid:20220112T133000
DTSTAMP:20260425T225058
CREATED:20220104T125256Z
LAST-MODIFIED:20220104T132247Z
UID:89869-1641987000-1641994200@ibecbarcelona.eu
SUMMARY:PhD Thesis Defence: Ana López Mengual
DESCRIPTION:Factores físicos y moleculares implicados en la migración celular y en el desarrollo de la corteza cerebral.\nAna López Mengual\, Molecular and cellular neurobiotechnology group \nAbstract \nCell migration acquires special relevance during embryonic development and tissue regeneration. During the development of the adult individual\, cells multiply\, differentiate and mature\, having to move to their destination regions through migration. Once the adult individual has formed\, these tissues can suffer damage\, leading to an altered state. In this process of tissue regeneration\, they try to set tissue homeostasis\, cell migration is essential. This thesis analyses the mechanical factors involved in cell migration in brain development and neural regeneration\, as a fundamental tool to understand these processes. OECs migrate greater distances over CXCL12 functionalized PLA 80/20 nanofibers\, thus responding to the chemotactic gradient. Measurements made with by means of BIO-AFM of the mouse embryonic brain reveals differences between the pallium and the subpallium. These differences determine the differential migration rates when transplanting explants of various origins outside their usual site and analysing the migration of Cajal-Retzius cells. In addition\, Cajal-Retzius cells respond by calcium entry to the inhibition of mechanosensitive cation channels\, changing their migration rate. So\, we conclude that physical factors are a key factor involved in the migration and disposition of Cajal-Retzius cells. \n  \n\n  \n  \nThe public event will take place at the Sala de Graus at the Faculty of Biology (University of Barcelona) on January 12th at 11:30. If you prefer to attend to this defence virtually\, contact with Ana López (alopezm@ibecbarcelona.eu). \n 
URL:https://ibecbarcelona.eu/event/phd-thesis-defence-ana-lopez-mengual/
LOCATION:Sala Graus\, Faculty of Biology\, Barcelona
CATEGORIES:PhD Thesis Defence
END:VEVENT
END:VCALENDAR