
BEGIN:VCALENDAR
VERSION:2.0
PRODID:-//Institute for Bioengineering of Catalonia - ECPv6.15.20//NONSGML v1.0//EN
CALSCALE:GREGORIAN
METHOD:PUBLISH
X-ORIGINAL-URL:https://ibecbarcelona.eu
X-WR-CALDESC:Events for Institute for Bioengineering of Catalonia
REFRESH-INTERVAL;VALUE=DURATION:PT1H
X-Robots-Tag:noindex
X-PUBLISHED-TTL:PT1H
BEGIN:VTIMEZONE
TZID:Europe/Madrid
BEGIN:DAYLIGHT
TZOFFSETFROM:+0100
TZOFFSETTO:+0200
TZNAME:CEST
DTSTART:20180325T010000
END:DAYLIGHT
BEGIN:STANDARD
TZOFFSETFROM:+0200
TZOFFSETTO:+0100
TZNAME:CET
DTSTART:20181028T010000
END:STANDARD
BEGIN:DAYLIGHT
TZOFFSETFROM:+0100
TZOFFSETTO:+0200
TZNAME:CEST
DTSTART:20190331T010000
END:DAYLIGHT
BEGIN:STANDARD
TZOFFSETFROM:+0200
TZOFFSETTO:+0100
TZNAME:CET
DTSTART:20191027T010000
END:STANDARD
BEGIN:DAYLIGHT
TZOFFSETFROM:+0100
TZOFFSETTO:+0200
TZNAME:CEST
DTSTART:20200329T010000
END:DAYLIGHT
BEGIN:STANDARD
TZOFFSETFROM:+0200
TZOFFSETTO:+0100
TZNAME:CET
DTSTART:20201025T010000
END:STANDARD
END:VTIMEZONE
BEGIN:VEVENT
DTSTART;TZID=Europe/Madrid:20191025T100000
DTEND;TZID=Europe/Madrid:20191025T120000
DTSTAMP:20260425T184635
CREATED:20191021T080451Z
LAST-MODIFIED:20191021T080503Z
UID:68757-1571997600-1572004800@ibecbarcelona.eu
SUMMARY:IBEC PhD Discussions Complementary Skills Session: Open Access and the Future of Scholarly Publishing
DESCRIPTION:Open Access and the Future of Scholarly Publishing\nClàudia Aunós – MDPI \nDuring this Open Access week\, we will take the opportunity to talk and discuss about what Open Access means\, what it really implies and its actual advantages. We will dig deeply into the initiatives and updates of Plan S\, its principles\, the actual situation\, the criteria such as journals and platforms need to meet to be compliant with Plan S and a short implementation guidance of the actual routes. We will also make a few recommendations to researches and Universities or research institutions that are walking through the future of scholarly publishing. Finally\, we will finish the discussion by talking about MDPI\, a publishing organization pioneer in scholarly open access publishing\, and its multiple services. We welcome everybody to join us and discuss with us all the questions and doubts you might have.
URL:https://ibecbarcelona.eu/event/ibec-phd-discussions-complementary-skills-session-open-access-and-the-future-of-scholarly-publishing/
LOCATION:IBEC\, floor 11\, Tower I\, Baldiri Reixac 4-8\, 08028 Barcelona\, Spain
CATEGORIES:PhD Discussions Complementary Skills Session
END:VEVENT
BEGIN:VEVENT
DTSTART;TZID=Europe/Madrid:20191025T100000
DTEND;TZID=Europe/Madrid:20191025T120000
DTSTAMP:20260425T184635
CREATED:20191021T080451Z
LAST-MODIFIED:20191021T080451Z
UID:96516-1571997600-1572004800@ibecbarcelona.eu
SUMMARY:IBEC PhD Discussions Complementary Skills Session: Open Access and the Future of Scholarly Publishing
DESCRIPTION:Open Access and the Future of Scholarly Publishing\nClàudia Aunós – MDPI \nDuring this Open Access week\, we will take the opportunity to talk and discuss about what Open Access means\, what it really implies and its actual advantages. We will dig deeply into the initiatives and updates of Plan S\, its principles\, the actual situation\, the criteria such as journals and platforms need to meet to be compliant with Plan S and a short implementation guidance of the actual routes. We will also make a few recommendations to researches and Universities or research institutions that are walking through the future of scholarly publishing. Finally\, we will finish the discussion by talking about MDPI\, a publishing organization pioneer in scholarly open access publishing\, and its multiple services. We welcome everybody to join us and discuss with us all the questions and doubts you might have.
URL:https://ibecbarcelona.eu/event/ibec-phd-discussions-complementary-skills-session-open-access-and-the-future-of-scholarly-publishing-2/
LOCATION:IBEC\, floor 11\, Tower I\, Baldiri Reixac 4-8\, 08028 Barcelona\, Spain
CATEGORIES:PhD Discussions Complementary Skills Session
END:VEVENT
END:VCALENDAR