
BEGIN:VCALENDAR
VERSION:2.0
PRODID:-//Institute for Bioengineering of Catalonia - ECPv6.15.20//NONSGML v1.0//EN
CALSCALE:GREGORIAN
METHOD:PUBLISH
X-WR-CALNAME:Institute for Bioengineering of Catalonia
X-ORIGINAL-URL:https://ibecbarcelona.eu/es/
X-WR-CALDESC:Eventos para Institute for Bioengineering of Catalonia
REFRESH-INTERVAL;VALUE=DURATION:PT1H
X-Robots-Tag:noindex
X-PUBLISHED-TTL:PT1H
BEGIN:VTIMEZONE
TZID:Europe/Madrid
BEGIN:DAYLIGHT
TZOFFSETFROM:+0100
TZOFFSETTO:+0200
TZNAME:CEST
DTSTART:20250330T010000
END:DAYLIGHT
BEGIN:STANDARD
TZOFFSETFROM:+0200
TZOFFSETTO:+0100
TZNAME:CET
DTSTART:20251026T010000
END:STANDARD
BEGIN:DAYLIGHT
TZOFFSETFROM:+0100
TZOFFSETTO:+0200
TZNAME:CEST
DTSTART:20260329T010000
END:DAYLIGHT
BEGIN:STANDARD
TZOFFSETFROM:+0200
TZOFFSETTO:+0100
TZNAME:CET
DTSTART:20261025T010000
END:STANDARD
BEGIN:DAYLIGHT
TZOFFSETFROM:+0100
TZOFFSETTO:+0200
TZNAME:CEST
DTSTART:20270328T010000
END:DAYLIGHT
BEGIN:STANDARD
TZOFFSETFROM:+0200
TZOFFSETTO:+0100
TZNAME:CET
DTSTART:20271031T010000
END:STANDARD
END:VTIMEZONE
BEGIN:VEVENT
DTSTART;TZID=Europe/Madrid:20260420T160000
DTEND;TZID=Europe/Madrid:20260420T170000
DTSTAMP:20260420T114327
CREATED:20260417T070744Z
LAST-MODIFIED:20260417T070744Z
UID:133239-1776700800-1776704400@ibecbarcelona.eu
SUMMARY:Ibec Seminar: Hans Clevers
DESCRIPTION:Human organoids model disease in 3D and in 2D\nHans Clevers\, MD\, PhD \, Professor of Molecular Genetics\, Utrecht University  \nThe intestinal epithelium is the most rapidly self-renewing tissue in adult mammals. We originally defined Lgr5 as a Wnt target gene\, transcribed in colon cancer cells. Two knock-in alleles revealed exclusive expression of Lgr5 in cycling\, columnar cells at the crypt base. Using lineage tracing experiments in adult mice\, we found that these Lgr5+ve crypt base columnar cells (CBC) generated all epithelial lineages throughout life\, implying that they represent the stem cell of the small intestine and colon. Lgr5 was subsequently found to represent an exquisitely specific\, yet ‘generic’ marker for active epithelial stem cells\, including in hair follicles\, kidney\, liver\, mammary gland\, inner ear tongue and stomach epithelium.  \nSingle sorted Lgr5+ve stem cells can initiate ever-expanding crypt-villus organoids\, or so called ‘mini-guts’ in 3D culture. The technology is based on the observation that Lgr5 is the receptor for a potent stem cell growth factor\, R-spondin. Similar 3D cultures systems have been developed for the Lgr5+ve stem cells of human stomach\, liver\, pancreas\, prostate and kidney. Using CRISPR/Cas9 technology\, genes can be efficiently modified in organoids of various origins. Organoid technology opens a range of avenues for the study of development\, physiology and disease\, for drug development and for personalized medicine. In the long run\, cultured mini-organs may replace transplant organs from donors and hold promise in gene therapy. \n\nAbout Hans Clevers: \nHans Clevers characterized the molecular effectors of the Wnt pathway: the TCF transcription factors. His group described the role of Wnt in (intestinal) stem cell biology and cancer\, eventually leading to the discovery of LGR5 as a novel stem cell marker. This eventually led him to pioneer tissue stem cell based organoids\, 3-dimensional in vitro structures that behave anatomically and molecularly like the organ from which they are derived. Organoid biology has revolutionized the way we approach human biology. \nHans Clevers obtained his MD and PhD degrees from the University of Utrecht\, the Netherlands. He holds a professorship in Molecular Genetics from the University of Utrecht. He previously held directorship/president positions at the Hubrecht Institute\, the Royal Netherlands Academy of Arts and Sciences and the Princess Maxima Center for pediatric oncology. He has served in the Supervisory Board (2019-2022) and as head of Roche’s Pharma Research & Early Development (pRED; 2022-2025). During this time\, he oversaw the establishment of Roche’s Institute of Human Biology (IHB) in Basel. He currently supervises his research groups at the Hubrecht Institute and the Princess Máxima Center. \nHe is the recipient of multiple international scientific awards\, including the Breakthrough Prize in Life Science. Hans Clevers is a member of the Royal Netherlands Academy of Arts and Sciences (NL)\, the National Academy of Sciences (USA)\, the Royal Society (UK) and the Academie des Sciences (France). He is also Chevalier de la Légion d’Honneur and Knight in the Order of the Netherlands Lion\, among many other international accolades.
URL:https://ibecbarcelona.eu/es/event/ibec-seminar-hans-clevers/
LOCATION:Auditori Antoni Caparrós\, PCB\, Tower D\, c/Baldiri Reixac 4-8\, Barcelona\, Spain
END:VEVENT
END:VCALENDAR