
BEGIN:VCALENDAR
VERSION:2.0
PRODID:-//Institute for Bioengineering of Catalonia - ECPv6.15.20//NONSGML v1.0//EN
CALSCALE:GREGORIAN
METHOD:PUBLISH
X-WR-CALNAME:Institute for Bioengineering of Catalonia
X-ORIGINAL-URL:https://ibecbarcelona.eu/es/
X-WR-CALDESC:Eventos para Institute for Bioengineering of Catalonia
REFRESH-INTERVAL;VALUE=DURATION:PT1H
X-Robots-Tag:noindex
X-PUBLISHED-TTL:PT1H
BEGIN:VTIMEZONE
TZID:Europe/Madrid
BEGIN:DAYLIGHT
TZOFFSETFROM:+0100
TZOFFSETTO:+0200
TZNAME:CEST
DTSTART:20210328T010000
END:DAYLIGHT
BEGIN:STANDARD
TZOFFSETFROM:+0200
TZOFFSETTO:+0100
TZNAME:CET
DTSTART:20211031T010000
END:STANDARD
BEGIN:DAYLIGHT
TZOFFSETFROM:+0100
TZOFFSETTO:+0200
TZNAME:CEST
DTSTART:20220327T010000
END:DAYLIGHT
BEGIN:STANDARD
TZOFFSETFROM:+0200
TZOFFSETTO:+0100
TZNAME:CET
DTSTART:20221030T010000
END:STANDARD
BEGIN:DAYLIGHT
TZOFFSETFROM:+0100
TZOFFSETTO:+0200
TZNAME:CEST
DTSTART:20230326T010000
END:DAYLIGHT
BEGIN:STANDARD
TZOFFSETFROM:+0200
TZOFFSETTO:+0100
TZNAME:CET
DTSTART:20231029T010000
END:STANDARD
END:VTIMEZONE
BEGIN:VEVENT
DTSTART;TZID=Europe/Madrid:20220323T140000
DTEND;TZID=Europe/Madrid:20220323T170000
DTSTAMP:20260425T211923
CREATED:20220310T162449Z
LAST-MODIFIED:20220310T162449Z
UID:96555-1648044000-1648054800@ibecbarcelona.eu
SUMMARY:ICMS-IBEC Joint Online Symposium
DESCRIPTION:This is the 6th symposium that the two institutions are celebrating together. This Mini-Symposium will take place online\, using the Teams app\, on 23 March from 14.00 – 17.00. \n  \n\n\n\n \nSpeaker\nTitle\n\n\n14.00\nChair: Jan van Hest (ICMS)  \nSamuel Sánchez (IBEC)\nOpening and welcome\n\n\n \nSuccessful joint ventures\n\n\n\n14.05\nShidong Song and Richard Post (IBEC & ICMS) \nPartnership between: \nGroup lead IBEC: Samuel Sánchez \nGroup lead ICMS: Remco van der Hofstad and Jan van Hest\nEngineering transient dynamics of artificial cells by stochastic distribution of enzymes\n\n\n14.30\nSertan Sukas (IBEC & ICMS) \nPartnership between: \nGroup lead IBEC: Josep Samitier (IBEC) \nGroup lead ICMS: Vito Conte\, Jaap den Toonder and Regina Luttge\nAdvanced flow control and quantification of forces for mechanobiology studies\n\n\n14.55\nTania Patiño Padial (IBEC→ICMS) \nTania was a member of the group of Samuel Sánchez at IBEC and is now a member of the group of Jan van Hest at ICMS\nBioengineering life-like nanosystems for biomedical applications\n\n\n15.20\nBreak\n\n\n\n \nFlash talks Exchange program\n\n\n\n15.30\nRobert Dassen (ICMS→IBEC) \nPartnership between: \nGroup leads IBEC: Veronika Magdanz and Samuel Sánchez \nGroup lead ICMS: Hans Wyss\n3D printing of organ models for in vitro testing of microrobots\n\n\n15.38\nLisa van Slagmaat (ICMS→IBEC) \nPartnership between: \nGroup lead IBEC: Josep Samitier \nGroup lead ICMS: Jaap den Toonder\nMicrofluidic herringbone device with self-assembled antibody monolayer for CTC separation\n\n\n15.46\nFloor Ummels (ICMS→IBEC) \nPartnership between: \nGroup lead IBEC: Giuseppe Battaglia \nGroup lead ICMS: Willem Mulder\nCrossing the blood-brain barrier\n\n\n15.54\nLisa Pomp (ICMS→IBEC) \nPartnership between: \nGroup leads IBEC: José Antonio Del Río and Karen Wells \nGroup lead ICMS: Vito Conte\nEstablishment of an in vitro blood-brain barrier model on transwells for transendothelial transport studies\n\n\n16.04\nStan van Wetten (ICMS→IBEC) \nPartnership between: \nGroup lead IBEC: Sílvia Pujals \nGroup lead ICMS: Arthur de Jong\nCorrelating Light and Electron Microscopy for PLGA-PEG nanoparticle charactization\n\n\n16.12\nLaura van de Koppel (ICMS→IBEC) \nPartnership between: \nGroup leads IBEC: Elisabeth Engel and Bárbara Blanco \nGroup lead ICMS: Patricia Dankers\nEngineering a 3D model of lymphoma using a hydrogel for precise screening of therapeutics\n\n\n16.20\nBreak \n\n\n\n16.35\nRoger Riera Brillas (IBEC & ICMS) \nRoger was a member of the  group of Lorenzo Albertazzi at IBEC and is now a member of the group of Lorenzo Albertazzi at ICMS\n Live-cell uPAINT imaging of receptors\n\n\n17.00\nClosing remarks
URL:https://ibecbarcelona.eu/es/event/icms-ibec-joint-online-symposium-3/
CATEGORIES:Joint seminar / workshop / symposium
END:VEVENT
BEGIN:VEVENT
DTSTART;TZID=Europe/Madrid:20220323T140000
DTEND;TZID=Europe/Madrid:20220323T170000
DTSTAMP:20260425T211923
CREATED:20220310T162449Z
LAST-MODIFIED:20220310T162449Z
UID:90903-1648044000-1648054800@ibecbarcelona.eu
SUMMARY:ICMS-IBEC Joint Online Symposium
DESCRIPTION:This is the 6th symposium that the two institutions are celebrating together. This Mini-Symposium will take place online\, using the Teams app\, on 23 March from 14.00 – 17.00. \n  \n\n\n\n \nSpeaker\nTitle\n\n\n14.00\nChair: Jan van Hest (ICMS)  \nSamuel Sánchez (IBEC)\nOpening and welcome\n\n\n \nSuccessful joint ventures\n\n\n\n14.05\nShidong Song and Richard Post (IBEC & ICMS) \nPartnership between: \nGroup lead IBEC: Samuel Sánchez \nGroup lead ICMS: Remco van der Hofstad and Jan van Hest\nEngineering transient dynamics of artificial cells by stochastic distribution of enzymes\n\n\n14.30\nSertan Sukas (IBEC & ICMS) \nPartnership between: \nGroup lead IBEC: Josep Samitier (IBEC) \nGroup lead ICMS: Vito Conte\, Jaap den Toonder and Regina Luttge\nAdvanced flow control and quantification of forces for mechanobiology studies\n\n\n14.55\nTania Patiño Padial (IBEC→ICMS) \nTania was a member of the group of Samuel Sánchez at IBEC and is now a member of the group of Jan van Hest at ICMS\nBioengineering life-like nanosystems for biomedical applications\n\n\n15.20\nBreak\n\n\n\n \nFlash talks Exchange program\n\n\n\n15.30\nRobert Dassen (ICMS→IBEC) \nPartnership between: \nGroup leads IBEC: Veronika Magdanz and Samuel Sánchez \nGroup lead ICMS: Hans Wyss\n3D printing of organ models for in vitro testing of microrobots\n\n\n15.38\nLisa van Slagmaat (ICMS→IBEC) \nPartnership between: \nGroup lead IBEC: Josep Samitier \nGroup lead ICMS: Jaap den Toonder\nMicrofluidic herringbone device with self-assembled antibody monolayer for CTC separation\n\n\n15.46\nFloor Ummels (ICMS→IBEC) \nPartnership between: \nGroup lead IBEC: Giuseppe Battaglia \nGroup lead ICMS: Willem Mulder\nCrossing the blood-brain barrier\n\n\n15.54\nLisa Pomp (ICMS→IBEC) \nPartnership between: \nGroup leads IBEC: José Antonio Del Río and Karen Wells \nGroup lead ICMS: Vito Conte\nEstablishment of an in vitro blood-brain barrier model on transwells for transendothelial transport studies\n\n\n16.04\nStan van Wetten (ICMS→IBEC) \nPartnership between: \nGroup lead IBEC: Sílvia Pujals \nGroup lead ICMS: Arthur de Jong\nCorrelating Light and Electron Microscopy for PLGA-PEG nanoparticle charactization\n\n\n16.12\nLaura van de Koppel (ICMS→IBEC) \nPartnership between: \nGroup leads IBEC: Elisabeth Engel and Bárbara Blanco \nGroup lead ICMS: Patricia Dankers\nEngineering a 3D model of lymphoma using a hydrogel for precise screening of therapeutics\n\n\n16.20\nBreak \n\n\n\n16.35\nRoger Riera Brillas (IBEC & ICMS) \nRoger was a member of the  group of Lorenzo Albertazzi at IBEC and is now a member of the group of Lorenzo Albertazzi at ICMS\n Live-cell uPAINT imaging of receptors\n\n\n17.00\nClosing remarks
URL:https://ibecbarcelona.eu/es/event/icms-ibec-joint-online-symposium-2/
CATEGORIES:Joint seminar / workshop / symposium
END:VEVENT
BEGIN:VEVENT
DTSTART;TZID=Europe/Madrid:20220323T140000
DTEND;TZID=Europe/Madrid:20220323T170000
DTSTAMP:20260425T211923
CREATED:20220503T134916Z
LAST-MODIFIED:20220503T134916Z
UID:93997-1648044000-1648054800@ibecbarcelona.eu
SUMMARY:ICMS-IBEC Joint Online Symposium
DESCRIPTION:This is the 6th symposium that the two institutions are celebrating together. This Mini-Symposium will take place online\, using the Teams app\, on 23 March from 14.00 – 17.00. \n\n\n\nSpeakerTitle14.00Chair: Jan van Hest (ICMS) Samuel Sánchez (IBEC)Opening and welcomeSuccessful joint ventures 14.05Shidong Song and Richard Post (IBEC & ICMS)Partnership between:Group lead IBEC: Samuel SánchezGroup lead ICMS: Remco van der Hofstad and Jan van HestEngineering transient dynamics of artificial cells by stochastic distribution of enzymes14.30Sertan Sukas (IBEC & ICMS)Partnership between:Group lead IBEC: Josep Samitier (IBEC)Group lead ICMS: Vito Conte\, Jaap den Toonder and Regina LuttgeAdvanced flow control and quantification of forces for mechanobiology studies14.55Tania Patiño Padial (IBEC→ICMS)Tania was a member of the group of Samuel Sánchez at IBEC and is now a member of the group of Jan van Hest at ICMSBioengineering life-like nanosystems for biomedical applications15.20Break Flash talks Exchange program 15.30Robert Dassen (ICMS→IBEC)Partnership between:Group leads IBEC: Veronika Magdanz and Samuel SánchezGroup lead ICMS: Hans Wyss3D printing of organ models for in vitro testing of microrobots15.38Lisa van Slagmaat (ICMS→IBEC)Partnership between:Group lead IBEC: Josep SamitierGroup lead ICMS: Jaap den ToonderMicrofluidic herringbone device with self-assembled antibody monolayer for CTC separation15.46Floor Ummels (ICMS→IBEC)Partnership between:Group lead IBEC: Giuseppe BattagliaGroup lead ICMS: Willem MulderCrossing the blood-brain barrier15.54Lisa Pomp (ICMS→IBEC)Partnership between:Group leads IBEC: José Antonio Del Río and Karen WellsGroup lead ICMS: Vito ConteEstablishment of an in vitro blood-brain barrier model on transwells for transendothelial transport studies16.04Stan van Wetten (ICMS→IBEC)Partnership between:Group lead IBEC: Sílvia PujalsGroup lead ICMS: Arthur de JongCorrelating Light and Electron Microscopy for PLGA-PEG nanoparticle charactization16.12Laura van de Koppel (ICMS→IBEC)Partnership between:Group leads IBEC: Elisabeth Engel and Bárbara BlancoGroup lead ICMS: Patricia DankersEngineering a 3D model of lymphoma using a hydrogel for precise screening of therapeutics16.20Break 16.35Roger Riera Brillas (IBEC & ICMS)Roger was a member of the  group of Lorenzo Albertazzi at IBEC and is now a member of the group of Lorenzo Albertazzi at ICMS Live-cell uPAINT imaging of receptors17.00Closing remarks 
URL:https://ibecbarcelona.eu/es/event/icms-ibec-joint-online-symposium/
CATEGORIES:Joint seminar / workshop / symposium
END:VEVENT
END:VCALENDAR