
BEGIN:VCALENDAR
VERSION:2.0
PRODID:-//Institute for Bioengineering of Catalonia - ECPv6.15.20//NONSGML v1.0//EN
CALSCALE:GREGORIAN
METHOD:PUBLISH
X-ORIGINAL-URL:https://ibecbarcelona.eu/es/
X-WR-CALDESC:Eventos para Institute for Bioengineering of Catalonia
REFRESH-INTERVAL;VALUE=DURATION:PT1H
X-Robots-Tag:noindex
X-PUBLISHED-TTL:PT1H
BEGIN:VTIMEZONE
TZID:Europe/Madrid
BEGIN:DAYLIGHT
TZOFFSETFROM:+0100
TZOFFSETTO:+0200
TZNAME:CEST
DTSTART:20210328T010000
END:DAYLIGHT
BEGIN:STANDARD
TZOFFSETFROM:+0200
TZOFFSETTO:+0100
TZNAME:CET
DTSTART:20211031T010000
END:STANDARD
BEGIN:DAYLIGHT
TZOFFSETFROM:+0100
TZOFFSETTO:+0200
TZNAME:CEST
DTSTART:20220327T010000
END:DAYLIGHT
BEGIN:STANDARD
TZOFFSETFROM:+0200
TZOFFSETTO:+0100
TZNAME:CET
DTSTART:20221030T010000
END:STANDARD
BEGIN:DAYLIGHT
TZOFFSETFROM:+0100
TZOFFSETTO:+0200
TZNAME:CEST
DTSTART:20230326T010000
END:DAYLIGHT
BEGIN:STANDARD
TZOFFSETFROM:+0200
TZOFFSETTO:+0100
TZNAME:CET
DTSTART:20231029T010000
END:STANDARD
END:VTIMEZONE
BEGIN:VEVENT
DTSTART;TZID=Europe/Madrid:20220608T083000
DTEND;TZID=Europe/Madrid:20220610T140000
DTSTAMP:20260425T184657
CREATED:20211025T144511Z
LAST-MODIFIED:20211221T121233Z
UID:88041-1654677000-1654869600@ibecbarcelona.eu
SUMMARY:EMBL-IBEC Winter Conference Engineering Multicellular Systems
DESCRIPTION:EMBL and IBEC aim to contribute to the discussion on challenges and opportunities in the expanding field of engineered multicellular systems\n \nRecent breakthroughs in stem cell biology\, organ-on-chip assays\, 3-D bioprinting\, and cell mechanobiology have revolutionized our ability to design and assemble multicellular living systems\, from organoids to embryos. \nThis biennial series of will focus on how engineering multicellular living systems is boosting our understanding of tissue and organ function\, with applications in disease modelling\, drug screening\, and tissue engineering. \nThe 2nd edition conference will take place in PRBB Auditorium (Barcelona Biomedical Research Park)\, in Barcelona from 9-11th February 2022. We expect to bring together 150 researchers including stem cell biologists\, systems biologists\, physicists and engineers. \nIMPORTANT DEADLINES\n\nAbstract submission deadline: 15/11/2021\nNotification of acceptance: 30/11/2021\nEarly registration: 30/12/2021\nLate registration: 30/01/2022 \nAbstract submission here \nRegistration here \n#EIWC22
URL:https://ibecbarcelona.eu/es/event/embl-ibec-winter-conference-engineering-multicellular-systems/
LOCATION:Barcelona Biomedical Research Park (PRBB)\, Dr. Aiguader 88 \, Barcelona\, 08003
CATEGORIES:Joint seminar / workshop / symposium
END:VEVENT
END:VCALENDAR