
BEGIN:VCALENDAR
VERSION:2.0
PRODID:-//Institute for Bioengineering of Catalonia - ECPv6.15.20//NONSGML v1.0//EN
CALSCALE:GREGORIAN
METHOD:PUBLISH
X-ORIGINAL-URL:https://ibecbarcelona.eu/es/
X-WR-CALDESC:Eventos para Institute for Bioengineering of Catalonia
REFRESH-INTERVAL;VALUE=DURATION:PT1H
X-Robots-Tag:noindex
X-PUBLISHED-TTL:PT1H
BEGIN:VTIMEZONE
TZID:Europe/Madrid
BEGIN:DAYLIGHT
TZOFFSETFROM:+0100
TZOFFSETTO:+0200
TZNAME:CEST
DTSTART:20230326T010000
END:DAYLIGHT
BEGIN:STANDARD
TZOFFSETFROM:+0200
TZOFFSETTO:+0100
TZNAME:CET
DTSTART:20231029T010000
END:STANDARD
BEGIN:DAYLIGHT
TZOFFSETFROM:+0100
TZOFFSETTO:+0200
TZNAME:CEST
DTSTART:20240331T010000
END:DAYLIGHT
BEGIN:STANDARD
TZOFFSETFROM:+0200
TZOFFSETTO:+0100
TZNAME:CET
DTSTART:20241027T010000
END:STANDARD
BEGIN:DAYLIGHT
TZOFFSETFROM:+0100
TZOFFSETTO:+0200
TZNAME:CEST
DTSTART:20250330T010000
END:DAYLIGHT
BEGIN:STANDARD
TZOFFSETFROM:+0200
TZOFFSETTO:+0100
TZNAME:CET
DTSTART:20251026T010000
END:STANDARD
END:VTIMEZONE
BEGIN:VEVENT
DTSTART;TZID=Europe/Madrid:20240412T150000
DTEND;TZID=Europe/Madrid:20240412T170000
DTSTAMP:20260420T232837
CREATED:20240212T115203Z
LAST-MODIFIED:20240212T115203Z
UID:115460-1712934000-1712941200@ibecbarcelona.eu
SUMMARY:BMBC meeting
DESCRIPTION:Please mark your calendars! The next BMBC meeting will be held on Friday 12th of April 2024\, from 3-6pm at PRBB\, Marie Curie Room. \n  \nFor this edition we will have an external speaker\, Michael Healy from Queensland University\, Australia. Michael is a postdoc in the group of Brett Collins\, and he has recently published the structure of the whole Commander complex\, involved in endosomal recycling to the plasma membrane (Healy et al.\, Cell\, 2023). We’re sure his talk will be highly interesting for the whole community and we strongly count on your participation. \nWe further thank Albert Pol who invited Michael and Oriol Gallego who is hosting him at PRBB for the help in coordinating Michael’s talk with our BMBC event. \n\n \nHere is a preliminary program \n\n15h – 15h45 Michael Healy (Brett Collins group\, Queensland University) \nUnravelling the Molecular Architecture of the Commander Complex.  \n15h45 – 16h15 Jessica Angulo-Capel (Felix Campelo lab\, ICFO) \nSpatiotemporal Dynamics of Protein Export at the Golgi Apparatus Resolved by Single Particle Tracking \n16h15-16h45     —–    Coffee Break    —— \n16h45-17h15 Albert Herms (Albert Pol group\, IDIBAPS-UB) \nEpithelioids: Self-sustaining 3D epithelial cultures to study long-term cellular processes \n17h15-17h45 Laura Ferigle (Raúl Estévez group\, IDIBELL-UB) \nInsights into MLC pathophysiology by biochemical and structural studies \n  \nMore details will follow soon. Feel free to visit our website and advertise it to your colleague\, they can read the program there and subscribe to the googlegroup. \nBMBC | bmbc (felixcampelo.wixsite.com) \n \n \nLooking forward to see many of you there!
URL:https://ibecbarcelona.eu/es/event/bmbc-meeting/
LOCATION:PRBB (Parc de Recerca Biomèdica de Barcelona)\, Marie Curie Room (PRBB inner square)
CATEGORIES:Joint seminar / workshop / symposium
END:VEVENT
END:VCALENDAR