
BEGIN:VCALENDAR
VERSION:2.0
PRODID:-//Institute for Bioengineering of Catalonia - ECPv6.15.20//NONSGML v1.0//EN
CALSCALE:GREGORIAN
METHOD:PUBLISH
X-WR-CALNAME:Institute for Bioengineering of Catalonia
X-ORIGINAL-URL:https://ibecbarcelona.eu/es/
X-WR-CALDESC:Eventos para Institute for Bioengineering of Catalonia
REFRESH-INTERVAL;VALUE=DURATION:PT1H
X-Robots-Tag:noindex
X-PUBLISHED-TTL:PT1H
BEGIN:VTIMEZONE
TZID:Europe/Madrid
BEGIN:DAYLIGHT
TZOFFSETFROM:+0100
TZOFFSETTO:+0200
TZNAME:CEST
DTSTART:20230326T010000
END:DAYLIGHT
BEGIN:STANDARD
TZOFFSETFROM:+0200
TZOFFSETTO:+0100
TZNAME:CET
DTSTART:20231029T010000
END:STANDARD
BEGIN:DAYLIGHT
TZOFFSETFROM:+0100
TZOFFSETTO:+0200
TZNAME:CEST
DTSTART:20240331T010000
END:DAYLIGHT
BEGIN:STANDARD
TZOFFSETFROM:+0200
TZOFFSETTO:+0100
TZNAME:CET
DTSTART:20241027T010000
END:STANDARD
BEGIN:DAYLIGHT
TZOFFSETFROM:+0100
TZOFFSETTO:+0200
TZNAME:CEST
DTSTART:20250330T010000
END:DAYLIGHT
BEGIN:STANDARD
TZOFFSETFROM:+0200
TZOFFSETTO:+0100
TZNAME:CET
DTSTART:20251026T010000
END:STANDARD
END:VTIMEZONE
BEGIN:VEVENT
DTSTART;TZID=Europe/Madrid:20240520T090000
DTEND;TZID=Europe/Madrid:20240520T140000
DTSTAMP:20260420T214224
CREATED:20240510T113302Z
LAST-MODIFIED:20240510T114103Z
UID:117526-1716195600-1716213600@ibecbarcelona.eu
SUMMARY:IBEC – KAIST Symposium
DESCRIPTION:Delegations of the Institute for Bioengineering of Catalonia (IBEC\, Spain) and Korean Advanced Institute of Science and Technology (KAIST\, Korea) will introduce some of their exciting research at the IBEC – KAIST Mini Symposium with presenters from the field of materials science\, polymer chemistry\, tissue engineering\, self-assembly\, chemical biology and synthetic biology. \nDate: May 20th 2024 \nVenue: Sala Baoba\, Tower I\, Floor 11\, Baldiri I Reixac 4 – 12\, Barcelona. \nSchedule: \n9:30 César Rodriguez-Emmenegger\, IBEC\nWelcome \n9:50 Hee-Seung Lee\, KAIST \n10:10 Javier Ramon-Azcon\, IBEC\nOrgans-on-chip with integrated optical sensors: advanced models for evaluation of potential therapies \n10:30Myungeun Seo\, KAIST\nPolymerization/depolymerization-induced self-assembly/disassembly \n10:50 César Rodriguez-Emmenegger\, IBEC\nUsing Nature’s engineering principles to design biointerfaces and synthetic cells \n11:10  Break \n11:30 Sang Woo Han\, KAIST\nPlasmonic hybrid nanoarchitectures for boosting light-to-chemical energy conversion \n11:50 Nina Kostina\, IBEC\nHow spontaneous curvature induces the morphogenesis of dendrimersome vesicles? \n12:10 Dong Ki Yoon\, KAIST\nEvaporation-induced self-assembly of biopolymers and its application \n12:30 Mohit Kumar\, IBEC / UB\nActive Vesicles: Nanocontainers for temporally regulated cargo delivery \n12:50 Byeong-Su Kim\, Yonsei University\nRecent advances in the design and biological applications of functional polyethers \n13:10 Ramona Santini\, IBEC\nDiscotic amphiphile supramolecular polymers for drug release and cell activation with light \n13:30 Adriano Caliari\, Jonas Quandt\, Jenny Englert\, IBEC/DWI\nFlash talks \n14:00 César Rodriguez-Emmenegger\, IBEC\nClosing remarks
URL:https://ibecbarcelona.eu/es/event/117526/
LOCATION:Sala Dolors Aleu\, Cluster II\, IBEC\, Baldiri i Reixac\, Barcelona
CATEGORIES:Joint seminar / workshop / symposium
END:VEVENT
END:VCALENDAR