
BEGIN:VCALENDAR
VERSION:2.0
PRODID:-//Institute for Bioengineering of Catalonia - ECPv6.15.20//NONSGML v1.0//EN
CALSCALE:GREGORIAN
METHOD:PUBLISH
X-WR-CALNAME:Institute for Bioengineering of Catalonia
X-ORIGINAL-URL:https://ibecbarcelona.eu/es/
X-WR-CALDESC:Eventos para Institute for Bioengineering of Catalonia
REFRESH-INTERVAL;VALUE=DURATION:PT1H
X-Robots-Tag:noindex
X-PUBLISHED-TTL:PT1H
BEGIN:VTIMEZONE
TZID:Europe/Madrid
BEGIN:DAYLIGHT
TZOFFSETFROM:+0100
TZOFFSETTO:+0200
TZNAME:CEST
DTSTART:20230326T010000
END:DAYLIGHT
BEGIN:STANDARD
TZOFFSETFROM:+0200
TZOFFSETTO:+0100
TZNAME:CET
DTSTART:20231029T010000
END:STANDARD
BEGIN:DAYLIGHT
TZOFFSETFROM:+0100
TZOFFSETTO:+0200
TZNAME:CEST
DTSTART:20240331T010000
END:DAYLIGHT
BEGIN:STANDARD
TZOFFSETFROM:+0200
TZOFFSETTO:+0100
TZNAME:CET
DTSTART:20241027T010000
END:STANDARD
BEGIN:DAYLIGHT
TZOFFSETFROM:+0100
TZOFFSETTO:+0200
TZNAME:CEST
DTSTART:20250330T010000
END:DAYLIGHT
BEGIN:STANDARD
TZOFFSETFROM:+0200
TZOFFSETTO:+0100
TZNAME:CET
DTSTART:20251026T010000
END:STANDARD
END:VTIMEZONE
BEGIN:VEVENT
DTSTART;TZID=Europe/Madrid:20241107T150000
DTEND;TZID=Europe/Madrid:20241107T163000
DTSTAMP:20260420T130658
CREATED:20241028T110921Z
LAST-MODIFIED:20241028T111126Z
UID:121062-1730991600-1730997000@ibecbarcelona.eu
SUMMARY:News\, Updates and opportunities for funding at the European Research Council (ERC)
DESCRIPTION:News\, Updates and opportunities for funding at the European Research Council (ERC) \nAndrás Badacsonyi\, Scientific Officer European Research Council Executive Agency \nThe European Research Council (ERC is the premier European funding organisation for excellent frontier research. I was set up by the European Commission responding to a demand from the scientific community in 2007. The ERC’s mission is to encourage the highest quality research in Europe through competitive funding and to support investigator-driven frontier research across all fields\, based on scientific excellence. \nThrough its long-term grants\, it provides scientific freedom and financial stability to its grantees and the reputation of excellent research. ERC projects have led to more than 200’000 articles published in scientific journals\, over 2’200 patents and other IPR applications\, and ERC grantees founded or co-founded over 400 start-ups so far. \nThe presentation will introduce ERC\, its grants and the evaluation process. I will explain the recently introduced changes in the evaluation and I will try to give some pragmatic advice to those who intend to apply for ERC funding. At the same time\, I will also clarify some misunderstandings and incorrect information about ERC evaluations. \n\nAGENDA \n15:00-15:05 – Welcome\nCommercialization & Communications Director PCB & Samuel Sánchez ICREA Professor and Group Leader Deputy Director for the Internationalization and Institutional relations IBEC. \n15:05 – 16:00 – Seminar\nNews\, updates and opportunities for funding at the ERC\, Dr. András Badacsonyi\, ERC Scientific Officer at the European Research Council Executive Agency. \n16:00 – 16:20 Q&A session \nClick here to register 
URL:https://ibecbarcelona.eu/es/event/news-updates-and-opportunities-for-funding-at-the-european-research-council-erc/
LOCATION:Sala Félix Serratosa – PCB\, c/ Baldiri i reixac 10-12\, Barcelona\, Spain\, 08028\, Spain
CATEGORIES:Joint seminar / workshop / symposium
END:VEVENT
END:VCALENDAR