
BEGIN:VCALENDAR
VERSION:2.0
PRODID:-//Institute for Bioengineering of Catalonia - ECPv6.15.20//NONSGML v1.0//EN
CALSCALE:GREGORIAN
METHOD:PUBLISH
X-ORIGINAL-URL:https://ibecbarcelona.eu/es/
X-WR-CALDESC:Eventos para Institute for Bioengineering of Catalonia
REFRESH-INTERVAL;VALUE=DURATION:PT1H
X-Robots-Tag:noindex
X-PUBLISHED-TTL:PT1H
BEGIN:VTIMEZONE
TZID:Europe/Madrid
BEGIN:DAYLIGHT
TZOFFSETFROM:+0100
TZOFFSETTO:+0200
TZNAME:CEST
DTSTART:20210328T010000
END:DAYLIGHT
BEGIN:STANDARD
TZOFFSETFROM:+0200
TZOFFSETTO:+0100
TZNAME:CET
DTSTART:20211031T010000
END:STANDARD
BEGIN:DAYLIGHT
TZOFFSETFROM:+0100
TZOFFSETTO:+0200
TZNAME:CEST
DTSTART:20220327T010000
END:DAYLIGHT
BEGIN:STANDARD
TZOFFSETFROM:+0200
TZOFFSETTO:+0100
TZNAME:CET
DTSTART:20221030T010000
END:STANDARD
BEGIN:DAYLIGHT
TZOFFSETFROM:+0100
TZOFFSETTO:+0200
TZNAME:CEST
DTSTART:20230326T010000
END:DAYLIGHT
BEGIN:STANDARD
TZOFFSETFROM:+0200
TZOFFSETTO:+0100
TZNAME:CET
DTSTART:20231029T010000
END:STANDARD
END:VTIMEZONE
BEGIN:VEVENT
DTSTART;VALUE=DATE:20220927
DTEND;VALUE=DATE:20220928
DTSTAMP:20260422T035339
CREATED:20220331T080224Z
LAST-MODIFIED:20220927T125024Z
UID:97443-1664236800-1664323199@ibecbarcelona.eu
SUMMARY:Mechanobiology of cancer summer school 2022
DESCRIPTION:The MECHANO·CONTROL consortium\, led by several research institutions across Europe\, is launching the second edition of the “Mechanobiology of Cancer” summer school\, which will take place between  September 27th –  October 1st at the Eco Resort in La Cerdanya. \n\n\n\n\n\n\n\n\n\n\n\n\nThe summer school aims to provide training on mechanobiology\, and specifically its application to cancer.This school will include lectures as well as practical workshops in different techniques and disciplines\, ranging from modeling to biomechanics to cancer biology. \nThere will be scientific sessions in the morning\, mixing 6 keynote speakers with short talks selected from abstract submissions by junior scientists attending the school and a poster session. In the afternoon\, there will be 2-3-hour practical workshops\, given by scientists from the MECHANO·CONTROL consortium. The course will also include leisure activities. \nThe 6 confirmed speakers who will attend the summer school are: \n\nDagmar Iber (ETH Zurich)\nHans Van Oosterwyck (KU Leuven)\nClaudia Fischbach (Director of Cornell’s Physical Sciences Oncology)\nGiorgio Scita (IFOM – The Firc Institute Of Molecular Oncology)\nMadeleine J. Oudin (Tufts University)\nMaria Celeste Aragona (University of Copenhagen)\n\nAttendance to the Summer School is open to all students\, post-docs\, and professionals interested\, although priority will be given to junior scientists (up to the post-doctoral stage). \n\nApplication deadline:9th May 2022 \nAcceptance and registration:17th June 2022
URL:https://ibecbarcelona.eu/es/event/mechanobiology-of-cancer-summer-school-2022/
CATEGORIES:External symposium / conference / congress,Other
ATTACH;FMTTYPE=image/png:https://ibecbarcelona.eu/wp-content/uploads/2022/03/595ec8f2-8b49-4c97-9cc7-17e8b603cb60.png
END:VEVENT
END:VCALENDAR