
BEGIN:VCALENDAR
VERSION:2.0
PRODID:-//Institute for Bioengineering of Catalonia - ECPv6.15.20//NONSGML v1.0//EN
CALSCALE:GREGORIAN
METHOD:PUBLISH
X-WR-CALNAME:Institute for Bioengineering of Catalonia
X-ORIGINAL-URL:https://ibecbarcelona.eu/es/
X-WR-CALDESC:Eventos para Institute for Bioengineering of Catalonia
REFRESH-INTERVAL;VALUE=DURATION:PT1H
X-Robots-Tag:noindex
X-PUBLISHED-TTL:PT1H
BEGIN:VTIMEZONE
TZID:Europe/Madrid
BEGIN:DAYLIGHT
TZOFFSETFROM:+0100
TZOFFSETTO:+0200
TZNAME:CEST
DTSTART:20220327T010000
END:DAYLIGHT
BEGIN:STANDARD
TZOFFSETFROM:+0200
TZOFFSETTO:+0100
TZNAME:CET
DTSTART:20221030T010000
END:STANDARD
BEGIN:DAYLIGHT
TZOFFSETFROM:+0100
TZOFFSETTO:+0200
TZNAME:CEST
DTSTART:20230326T010000
END:DAYLIGHT
BEGIN:STANDARD
TZOFFSETFROM:+0200
TZOFFSETTO:+0100
TZNAME:CET
DTSTART:20231029T010000
END:STANDARD
BEGIN:DAYLIGHT
TZOFFSETFROM:+0100
TZOFFSETTO:+0200
TZNAME:CEST
DTSTART:20240331T010000
END:DAYLIGHT
BEGIN:STANDARD
TZOFFSETFROM:+0200
TZOFFSETTO:+0100
TZNAME:CET
DTSTART:20241027T010000
END:STANDARD
END:VTIMEZONE
BEGIN:VEVENT
DTSTART;TZID=Europe/Madrid:20230606T150000
DTEND;TZID=Europe/Madrid:20230606T180000
DTSTAMP:20260421T112029
CREATED:20230523T080627Z
LAST-MODIFIED:20230523T080627Z
UID:108201-1686063600-1686074400@ibecbarcelona.eu
SUMMARY:Greening the lab: celebrating ibec's sustainable practices
DESCRIPTION:On 6th of June we will celebrate that we are the first research center in Spain to certify its laboratories as sustainable by My Green Labs. \nSince the publication of the IBEC Strategy to promote sustainability in research in 2021\, IBEC has been working to make the work in the labs and in the institute more sustainable. \nAll this work has been recently recognized by becoming the first research center in Spain to certify its laboratories as sustainable by My Green Labs. \nThe next 6th of June at 3pm\, we will celebrate this success and share our experience and best practices.  \nCome and join us at the PCB!
URL:https://ibecbarcelona.eu/es/event/greening-the-lab-celebrating-ibecs-sustainable-practices/
LOCATION:Sala Félix Serratosa – PCB\, c/ Baldiri i reixac 10-12\, Barcelona\, Spain\, 08028\, Spain
CATEGORIES:Other
END:VEVENT
END:VCALENDAR