
BEGIN:VCALENDAR
VERSION:2.0
PRODID:-//Institute for Bioengineering of Catalonia - ECPv6.15.20//NONSGML v1.0//EN
CALSCALE:GREGORIAN
METHOD:PUBLISH
X-ORIGINAL-URL:https://ibecbarcelona.eu/es/
X-WR-CALDESC:Eventos para Institute for Bioengineering of Catalonia
REFRESH-INTERVAL;VALUE=DURATION:PT1H
X-Robots-Tag:noindex
X-PUBLISHED-TTL:PT1H
BEGIN:VTIMEZONE
TZID:Europe/Madrid
BEGIN:DAYLIGHT
TZOFFSETFROM:+0100
TZOFFSETTO:+0200
TZNAME:CEST
DTSTART:20240331T010000
END:DAYLIGHT
BEGIN:STANDARD
TZOFFSETFROM:+0200
TZOFFSETTO:+0100
TZNAME:CET
DTSTART:20241027T010000
END:STANDARD
BEGIN:DAYLIGHT
TZOFFSETFROM:+0100
TZOFFSETTO:+0200
TZNAME:CEST
DTSTART:20250330T010000
END:DAYLIGHT
BEGIN:STANDARD
TZOFFSETFROM:+0200
TZOFFSETTO:+0100
TZNAME:CET
DTSTART:20251026T010000
END:STANDARD
BEGIN:DAYLIGHT
TZOFFSETFROM:+0100
TZOFFSETTO:+0200
TZNAME:CEST
DTSTART:20260329T010000
END:DAYLIGHT
BEGIN:STANDARD
TZOFFSETFROM:+0200
TZOFFSETTO:+0100
TZNAME:CET
DTSTART:20261025T010000
END:STANDARD
END:VTIMEZONE
BEGIN:VEVENT
DTSTART;TZID=Europe/Madrid:20250509T093000
DTEND;TZID=Europe/Madrid:20250509T163000
DTSTAMP:20260422T124407
CREATED:20250213T140522Z
LAST-MODIFIED:20250505T125055Z
UID:123853-1746783000-1746808200@ibecbarcelona.eu
SUMMARY:Workshop 1 NET-CNS. “Neurodegenerative Diseases: Unraveling Molecular and Cellular Mechanisms to Advance Prevention and Treatment
DESCRIPTION:Exploring the molecular and cellular mechanisms of neurodegeneration and CNS pathology\, as well as emerging therapies and prevention strategies. \nSchedule for workshop: \n\n9:20 – 9:30 Welcome from Network coordinator\n9:30 – 10:00 Mariano Martin\, IBEC\, “Amyloids ‘at the border’: deep mutagenesis and random sequence extension reveal an incomplete amyloid-forming motif in Bri2 that turns amyloidogenic upon C-terminal extension”\n10:00 – 11:00 Salvador Ventura\, Institut de Biotecnologia i Biomedicina\, Universitat Autònoma de Barcelona\, “A structure-based approach to tackle protein aggregation in Parkinson’s disease”\n11:00 – 11:30 Coffee Break and Networking\n11:30 – 12:30 Amaia Arranz\, Achucarro\, “Divergent Effects of APOE3 and APOE4 Human Astrocytes on Key Alzheimer’s Disease Hallmarks in Chimeric Mice”\n12:30 – 13:30 Roundtable – Moderated by network chairs to debate the issues discussed\n13:30 – 14:30 Lunch\n14:30 – 15:00 Amayra Hernández\, IBEC\, “Dynamics of Axonal Degeneration in Alzheimer’s Disease Induced by Tau or Amyloid Beta Aggregation”\n15:00 –15:30 Karolina Zimkowska\, IBEC\, “Neuronal Activity and p-Tau: Lessons from Primary Cultures to Cortical Organoids Modeling FTLD-17”\n15:30 – 16:00 Closing remarks and end of the Workshop\n\nTo register\, click here
URL:https://ibecbarcelona.eu/es/event/net-cns-indicar-workshop-1-net-cns/
LOCATION:Sala Dolors Aleu\, Cluster II\, IBEC\, Baldiri i Reixac\, Barcelona
CATEGORIES:IBEC Symposium / Conference / Congress
END:VEVENT
BEGIN:VEVENT
DTSTART;TZID=Europe/Madrid:20250516T103000
DTEND;TZID=Europe/Madrid:20250516T130000
DTSTAMP:20260422T124407
CREATED:20250506T084825Z
LAST-MODIFIED:20250506T084825Z
UID:125565-1747391400-1747400400@ibecbarcelona.eu
SUMMARY:Research4talent
DESCRIPTION:The event offers you the opportunity to engage with our researchers and inquire about their day-to-day work in the lab\, career trajectories\, work-life balance\, mobility\, etc. \nIn 2024\, IBEC signed more than 140 internship agreements for undergraduate and master’s students with a wide range of national and international universities. \nIf you are interested in IBEC’s eleventh edition of reSEARCH4TALENT\, please register here.
URL:https://ibecbarcelona.eu/es/event/research4talent-7/
LOCATION:Auditori Antoni Caparrós\, PCB\, Tower D\, c/Baldiri Reixac 4-8\, Barcelona\, Spain
CATEGORIES:IBEC Symposium / Conference / Congress
END:VEVENT
BEGIN:VEVENT
DTSTART;TZID=Europe/Madrid:20250523T090000
DTEND;TZID=Europe/Madrid:20250523T163000
DTSTAMP:20260422T124407
CREATED:20250407T064633Z
LAST-MODIFIED:20250513T092418Z
UID:125047-1747990800-1748017800@ibecbarcelona.eu
SUMMARY:NET-QUASI: Workshop 1: Biophysical Principles of Self-Assembly and Self-Organization Across Living and Synthetic Systems
DESCRIPTION:Self-assembly and self-organization are fundamental principles that govern the formation of complex structures and functions across biological systems. This workshop will explore how these processes emerge in nature\, how they contribute to the organization of life\, and whether similar behaviors can be replicated in engineered systems. By bringing together perspectives from biology\, chemistry\, and physics\, our speakers aim to uncover the underlying mechanisms that drive self-organized processes in living matter across scales. A deeper understanding of these principles could not only provide insights into the fundamental organization of biological systems but also lead to the design of adaptive and responsive materials. \nScheduled Program: \n09:15 – 09:30 – Registration \n09:30 – 09:40 – Opening \n09:40 – 10:30 – Keynote speaker: Prof. Jan Brugués\, Technische Universität Dresden\, Dresden\, Germany\, “Self-organization of the cytoplasm by physical instabilities” \n10:30 – 10:50 – Dr. Pau Guillamat\, IBEC\, Barcelona\, Spain. “ From cells to smart surfaces: steering living nematics into shape” \n10:50 – 11:20 – Invited speaker: Prof. Alejandro Torres-Sánchez\, European Molecular Biology Laboratory (EMBL)\, Barcelona\, Spain\, “ Break to build: how mechanical fracture patterns the beating heart ” \n11:20 – 12:00 – Coffee break \n12:00 – 12:30 – Invited speaker: Prof. Jordi Ignés-Mullol\, University of Barcelona\, Barcelona\, Spain\, “Emerging phenomena and symmetry breaking in active nematics” \n12:30 – 13:00  – Invited speaker: Prof. Maria Guix\, University of Barcelona\, Barcelona\, Spain. “ Harnessing emergent behavior in living robotic systems” \n13:00 – 13:20  – Miguel González-Martín\, IBEC\, Barcelona\, Spain.  “ Development of mechanosensitive molecules for the mechanical control of transcription” \n13:20 – 13:40 – Dr. Nina Kostina\, IBEC\, Barcelona\, Spain. “From Assembly to Action: Programming Shape and Motion in Synthetic Vesicles» \n13:40 – 14:00 – Dr. Vladislav Petrovskii\, IBEC\, Barcelona\, Spain\, “Charge–density-mediated self-assembly in vesicles of polyelectrolyte–surfactant complexes”  \n14:00 – 14:50 –  Lunch \n14:50 – 15:20 – Prof. Samuel Sánchez Ordóñez\, IBEC\, Barcelona\, Spain. “Collective behavior of chemically powered nanomotors” \n15:20 – 15:50 – Dr. Valentino Barbieri\, IBEC\, Barcelona\, Spain.  “ Supramolecular Architects: Engineering Self-Assembled Nanodrugs” \n15:50 – 16:20 – Invited speaker: Prof. Katherine Villa\,  Institute of Chemical Research of Catalonia (ICIQ)\, Tarragona\, Spain. “ Programmable Self-Assembly in Photoactive Colloidal Motors via Light Shaping” \n16:20  – closing remarks \nTo register\, click here.
URL:https://ibecbarcelona.eu/es/event/workshop-1-net-quasi-workshop-1-neurodegenerative-diseases-unraveling-molecular-and-cellular-mechanisms-to-advance-prevention-and-treatment/
LOCATION:Sala Dolors Aleu\, Cluster II\, Parc Científic de Barcelona\, Barcelona\, Spain
CATEGORIES:IBEC Symposium / Conference / Congress
END:VEVENT
END:VCALENDAR