
BEGIN:VCALENDAR
VERSION:2.0
PRODID:-//Institute for Bioengineering of Catalonia - ECPv6.15.20//NONSGML v1.0//EN
CALSCALE:GREGORIAN
METHOD:PUBLISH
X-ORIGINAL-URL:https://ibecbarcelona.eu/es/
X-WR-CALDESC:Eventos para Institute for Bioengineering of Catalonia
REFRESH-INTERVAL;VALUE=DURATION:PT1H
X-Robots-Tag:noindex
X-PUBLISHED-TTL:PT1H
BEGIN:VTIMEZONE
TZID:Europe/Madrid
BEGIN:DAYLIGHT
TZOFFSETFROM:+0100
TZOFFSETTO:+0200
TZNAME:CEST
DTSTART:20240331T010000
END:DAYLIGHT
BEGIN:STANDARD
TZOFFSETFROM:+0200
TZOFFSETTO:+0100
TZNAME:CET
DTSTART:20241027T010000
END:STANDARD
BEGIN:DAYLIGHT
TZOFFSETFROM:+0100
TZOFFSETTO:+0200
TZNAME:CEST
DTSTART:20250330T010000
END:DAYLIGHT
BEGIN:STANDARD
TZOFFSETFROM:+0200
TZOFFSETTO:+0100
TZNAME:CET
DTSTART:20251026T010000
END:STANDARD
BEGIN:DAYLIGHT
TZOFFSETFROM:+0100
TZOFFSETTO:+0200
TZNAME:CEST
DTSTART:20260329T010000
END:DAYLIGHT
BEGIN:STANDARD
TZOFFSETFROM:+0200
TZOFFSETTO:+0100
TZNAME:CET
DTSTART:20261025T010000
END:STANDARD
END:VTIMEZONE
BEGIN:VEVENT
DTSTART;TZID=Europe/Madrid:20250613T090000
DTEND;TZID=Europe/Madrid:20250613T160000
DTSTAMP:20260422T102603
CREATED:20250522T094643Z
LAST-MODIFIED:20250522T122126Z
UID:125907-1749805200-1749830400@ibecbarcelona.eu
SUMMARY:NET-NANO. Workshop 2: Selective targeting and biological barriers
DESCRIPTION:IBEC’s Next-Generation Nanomedicine Network (NET-NANO) is dedicated to bridging nanomedicine research with practical applications\, enhancing our ability to diagnose and treat human diseases effectively. As part of this initiative\, a series of thematic workshops are being organised. The second workshop\, scheduled for June 13th\, will delve into nanomedicine design for selective targeting and overcoming biological barriers. Leading international experts and IBEC researchers will present on topics ranging from nanoparticle design strategies for penetrating barriers like the blood-brain barrier\, retina\, and bacterial biofilms\, to innovative targeting approaches using lipid nanoparticles\, multivalent polymeric nanoparticles\, and enzymatic nanomotors. \nScheduled Program: \n09:00–09:10 – Welcome from Network Coordinator \n9:10–09:40 – Prof. Silvia Muro (Targeted therapeutics and nanodevices\, IBEC)“Isoform-dependent targeting and its relevance for the design of drug delivery strategies” \n09:40–10:10 – Dr Núria Blanco-Cabra (Bacterial Infections: Antimicrobial Therapies\, IBEC)“Targeting and crossing bacterial biofilms with nanomedicine to overcome chronic infections.” \n10:10–11:10 – Plenary: Prof. Katrien Remaut (Ghent University\, Belgium)“Investigating and overcoming biological barriers to lipid nanoparticle mediated messenger RNA delivery to the retina” \n11:10–11:40 – Coffee Break & Challenge Board \n11:40–12:10 – Marco Basile (Molecular Bionics\, IBEC)“Multivalent Nanoparticles as Modulators of the Blood–Brain Barrier: A New Paradigm for Superselective Nanomedicine” \n12:10–12:40 – Dr David Esporrín Ubieto (Smart Nano-Bio-Devices\, IBEC)“Enzymatic nanomotors with enhanced motion in viscous media for advanced biomedical applications” \n12:40–13:10 – Dr Sílvia Pujals (IQAC-CSIC and IBEC)“Super resolution methods for nanomedicine” \n13:10–14:10 – Networking Lunch \n14:10–15:10 – Plenary: Pablo Scodeller (Institute of Advanced Chemistry of Catalonia (IQAC-CSIC)\, Spain)“Identifying targeting peptides and biomarkers using phage-display” \n15:10–15:40 – Roundtable Discussion \n15:40–15:45 – Farewell from Network Representatives
URL:https://ibecbarcelona.eu/es/event/net-nano-workshop-2-selective-targeting-and-biological-barriers/
LOCATION:Sala Dolors Aleu\, Cluster II\, Parc Científic de Barcelona\, Barcelona\, Spain
CATEGORIES:IBEC Symposium / Conference / Congress
END:VEVENT
END:VCALENDAR