
BEGIN:VCALENDAR
VERSION:2.0
PRODID:-//Institute for Bioengineering of Catalonia - ECPv6.15.20//NONSGML v1.0//EN
CALSCALE:GREGORIAN
METHOD:PUBLISH
X-WR-CALNAME:Institute for Bioengineering of Catalonia
X-ORIGINAL-URL:https://ibecbarcelona.eu/es/
X-WR-CALDESC:Eventos para Institute for Bioengineering of Catalonia
REFRESH-INTERVAL;VALUE=DURATION:PT1H
X-Robots-Tag:noindex
X-PUBLISHED-TTL:PT1H
BEGIN:VTIMEZONE
TZID:Europe/Madrid
BEGIN:DAYLIGHT
TZOFFSETFROM:+0100
TZOFFSETTO:+0200
TZNAME:CEST
DTSTART:20240331T010000
END:DAYLIGHT
BEGIN:STANDARD
TZOFFSETFROM:+0200
TZOFFSETTO:+0100
TZNAME:CET
DTSTART:20241027T010000
END:STANDARD
BEGIN:DAYLIGHT
TZOFFSETFROM:+0100
TZOFFSETTO:+0200
TZNAME:CEST
DTSTART:20250330T010000
END:DAYLIGHT
BEGIN:STANDARD
TZOFFSETFROM:+0200
TZOFFSETTO:+0100
TZNAME:CET
DTSTART:20251026T010000
END:STANDARD
BEGIN:DAYLIGHT
TZOFFSETFROM:+0100
TZOFFSETTO:+0200
TZNAME:CEST
DTSTART:20260329T010000
END:DAYLIGHT
BEGIN:STANDARD
TZOFFSETFROM:+0200
TZOFFSETTO:+0100
TZNAME:CET
DTSTART:20261025T010000
END:STANDARD
END:VTIMEZONE
BEGIN:VEVENT
DTSTART;TZID=Europe/Madrid:20250702T080000
DTEND;TZID=Europe/Madrid:20250704T180000
DTSTAMP:20260422T090521
CREATED:20250626T110809Z
LAST-MODIFIED:20250626T110858Z
UID:126931-1751443200-1751652000@ibecbarcelona.eu
SUMMARY:5th Annual Meeting of the ISMRM IBERIAN CHAPTER
DESCRIPTION:The ISMRM Iberian Chapter is blooming maturely as a shared environment between scientists and clinicians in the magnetic resonance imaging field.  The meeting will be an opportunity for academic and social interaction\, and we will be honored to have the following distinguished speakers. \nIn this 5th meeting\, we will offer an exciting 2-day scientific program. Plenary lectures will feature leading experts in clinical\, preclinical\, and computational MRI. In addition\, oral sessions and poster sessions will showcase the latest research findings in our community\, while industry will have the opportunity to showcase their latest technological innovations in the field and contact future users. \nAs we believe in the importance of networking\, there will be ample opportunities to connect during the coffee breaks. \nI look forward to meeting you in Barcelona!
URL:https://ibecbarcelona.eu/es/event/5th-annual-meeting-of-the-ismrm-iberian-chapter/
LOCATION:Auditori Antoni Caparrós\, PCB\, Tower D\, c/Baldiri Reixac 4-8\, Barcelona\, Spain
CATEGORIES:External symposium / conference / congress,IBEC Symposium / Conference / Congress
END:VEVENT
BEGIN:VEVENT
DTSTART;TZID=Europe/Madrid:20250704T093000
DTEND;TZID=Europe/Madrid:20250704T133000
DTSTAMP:20260422T090521
CREATED:20250324T094523Z
LAST-MODIFIED:20250611T134750Z
UID:124882-1751621400-1751635800@ibecbarcelona.eu
SUMMARY:Workshop 2. NET-RARE: Humanized Models for Studying Rare Diseases
DESCRIPTION:NET-RARE second workshop will explore how humanized and bioengineered models can replace 2D cultures and murine models to better understand and replicate rare disorders. The goal is to examine the latest approaches for studying rare diseases in personalized human models. \nThe opening seminar will feature Juanma Fernández (IBEC). He will present a 3D model designed to study various muscular diseases\, along with Organ-on-Chip (OOC) technology and a biosensor platform for detecting biomarkers of the pathology. Next\, Anna Collado Gimbert (VHIR) will introduce their new personalized model for studying rare anaemia disorders. Her team\, in collaboration with IBEC\, has developed a spleen-like microfluidic filtering unit to model disease progression and create a diagnostic device for prognosis and patient stratification. \nFollowing this\, international speaker Francesco Saverio Tedesco (University College London) will present his research on enhancing muscle regeneration to develop treatments for severe and incurable childhood diseases\, like muscular dystrophies. His team has developed a novel human engineered muscle model for advanced in vitro modelling of muscle disorders involving extracellular matrix\, including COL6-related dystrophies. \nAfter a networking break\, the next talk will be given by Laura Siles (Instituto de Microcirugía Ocular) in Barcelona. The group develops 3D retina models using induced pluripotent stem (iPS) cells and has extensive expertise in gene editing with CRISPR technology applied to patient-derived iPS cells. Finally\, Marc Riu-Villanueva(IBEC) will share their research on neurodegenerative diseases. \nJoin us to explore the next steps in bioengineering using humanized models to advance biomedical research! \nWorkshop held in the framework of the IBEC Thematic Networks. \nRegistration (below) is mandatory. \n  \nScheduled Program:  \n09:20 – Registration \n09:30 – Welcome and introduction \n09:40 – Juanma Fernández-Costa\, IBEC Group “Biosensors for Bioengineering”\, “Next-Gen preclinical models: Muscle-on-Chip meets nanoplasmonic biosensors for drug evaluation in muscular dystrophies” \n10:10 – National invited speaker: Anna Collado Gimbert from the VHIR group “Childhood Cancer and Blood disorders”\, “Deep characterization of red blood cells in sickle cell disease and other rare anemia disorders by microfluidics and machine learning algorithms” \n10:40 – International invited speaker: Francesco Saverio Tedesco\, professor of Neuromuscular Biology and Regenerative Medicine\, Department of Cell and Developmental Biology\, University College London (UK)\, “Advanced in vitro modelling of neuromuscular diseases and therapeutics”   \n11:30 – Coffee break and Networking \n12:00 – National invited speaker: Laura Siles from the Instituto de Microcirugía Ocular (IMO)\, “Retinal organoids and gene editing in Inherited Retinal Dystrophies: disease modeling using patient-derived iPSCs and potential therapeutic approximation” \n12:30 – Marc Riu-Villanueva\, IBEC group “Molecular and Cellular Neurobiology”\, “Biochemistry and functional analysis of P301L Tau in human brain cortical organoids modelling tauopathies of the FTLD spectrum” \n13:00 – Remarks and Closing \n  \nTo register click here
URL:https://ibecbarcelona.eu/es/event/workshop-2-net-rare-humanized-models-for-studying-rare-diseases/
LOCATION:Sala Dolors Aleu\, Cluster II\, IBEC\, Baldiri i Reixac\, Barcelona
CATEGORIES:IBEC Symposium / Conference / Congress
END:VEVENT
BEGIN:VEVENT
DTSTART;TZID=Europe/Madrid:20250717T093000
DTEND;TZID=Europe/Madrid:20250717T133000
DTSTAMP:20260422T090521
CREATED:20250704T102254Z
LAST-MODIFIED:20250704T111234Z
UID:127203-1752744600-1752759000@ibecbarcelona.eu
SUMMARY:Reformant l’avaluació de la recerca per afavorir la qualitat i l’impacte científic
DESCRIPTION:Hi ha un gran consens entre la comunitat investigadora en general sobre la necessitat de reformar les pràctiques d’avaluació de la recerca. L’avaluació de la recerca\, els investigadors i les organitzacions de recerca han de reconèixer els diversos resultats\, pràctiques i activitats que maximitzen la qualitat i l’impacte de la recerca. Això\, requereix basar l’avaluació principalment en dades qualitatives\, per al qual la revisió per parells és central\, recolzada per l’ús responsable d’indicadors quantitatius.  \nPer avançar cap a aquesta reforma de l’avaluació de la recerca\, ja hi ha diferents iniciatives. Entre elles\, CoARA\, la Coalició per a l’Avenç de l’Avaluació de la Recerca.  \nEs tracta d’un esforç col·lectiu en què totes les institucions\, des de les universitats\, les organitzacions de recerca fins a les agències avaluadores i els finançadors\, han de treballar juntes.  \nEn aquest workshop aprendrem de les experiències de diferents institucions en la implementació dels principis CoARA i discutirem com podem avançar cap a un sistema de recerca d’avaluació més just i impactant.    \nTo register cilck here
URL:https://ibecbarcelona.eu/es/event/reformant-lavaluacio-de-la-recerca-per-afavorir-la-qualitat-i-limpacte-cientific/
LOCATION:Auditori Antoni Caparrós\, PCB\, Tower D\, c/Baldiri Reixac 4-8\, Barcelona\, Spain
CATEGORIES:IBEC Symposium / Conference / Congress
END:VEVENT
END:VCALENDAR