
BEGIN:VCALENDAR
VERSION:2.0
PRODID:-//Institute for Bioengineering of Catalonia - ECPv6.15.20//NONSGML v1.0//EN
CALSCALE:GREGORIAN
METHOD:PUBLISH
X-ORIGINAL-URL:https://ibecbarcelona.eu/es/
X-WR-CALDESC:Eventos para Institute for Bioengineering of Catalonia
REFRESH-INTERVAL;VALUE=DURATION:PT1H
X-Robots-Tag:noindex
X-PUBLISHED-TTL:PT1H
BEGIN:VTIMEZONE
TZID:Europe/Madrid
BEGIN:DAYLIGHT
TZOFFSETFROM:+0100
TZOFFSETTO:+0200
TZNAME:CEST
DTSTART:20240331T010000
END:DAYLIGHT
BEGIN:STANDARD
TZOFFSETFROM:+0200
TZOFFSETTO:+0100
TZNAME:CET
DTSTART:20241027T010000
END:STANDARD
BEGIN:DAYLIGHT
TZOFFSETFROM:+0100
TZOFFSETTO:+0200
TZNAME:CEST
DTSTART:20250330T010000
END:DAYLIGHT
BEGIN:STANDARD
TZOFFSETFROM:+0200
TZOFFSETTO:+0100
TZNAME:CET
DTSTART:20251026T010000
END:STANDARD
BEGIN:DAYLIGHT
TZOFFSETFROM:+0100
TZOFFSETTO:+0200
TZNAME:CEST
DTSTART:20260329T010000
END:DAYLIGHT
BEGIN:STANDARD
TZOFFSETFROM:+0200
TZOFFSETTO:+0100
TZNAME:CET
DTSTART:20261025T010000
END:STANDARD
END:VTIMEZONE
BEGIN:VEVENT
DTSTART;TZID=Europe/Madrid:20251002T080000
DTEND;TZID=Europe/Madrid:20251003T170000
DTSTAMP:20260422T051001
CREATED:20250515T103516Z
LAST-MODIFIED:20250718T084225Z
UID:125745-1759392000-1759510800@ibecbarcelona.eu
SUMMARY:SEMIT 2025. First conference of the Spanish Society of Regenerative Medicine and Tissue Engineering
DESCRIPTION:The Spanish Society of Regenerative Medicine and Tissue Engineering (SEMIT) was founded as a society in 2024 to address the need to advance the development and application of these promising fields in Spain . \nThe inaugural SEMIT 2025 Congress\, held on October 2-3\, 2025\, at the Parc Científic de Barcelona\, will mark the beginning of a leading platform for knowledge exchange among researchers\, clinicians\, and companies in the field. This event will bring together prominent national and international experts to di scuss the latest advances and challenges in bioengineering\, advanced biomaterials\, biofabrication and many others\, promoting interdisciplinary collaboration and the transfer of technology into clinical practice. In addition\, this year we will count with the attendance of four internationally recognized plenary speakers: Abhay Pandit\, Maria Pau Ginebra\, Manuel Salmerón and Aitziber Cortajarena. \nBe part of the future of regenerative medicine and tissue engineering and become a member of the society. Join SEMIT 2025 and connect with the community that is transforming science into real solutions for health. \nTo register click here
URL:https://ibecbarcelona.eu/es/event/semit-2025/
LOCATION:Auditori Antoni Caparrós\, PCB\, Tower D\, c/Baldiri Reixac 4-8\, Barcelona\, Spain
CATEGORIES:IBEC Symposium / Conference / Congress
END:VEVENT
BEGIN:VEVENT
DTSTART;TZID=Europe/Madrid:20251010T092000
DTEND;TZID=Europe/Madrid:20251010T150000
DTSTAMP:20260422T051001
CREATED:20250214T083540Z
LAST-MODIFIED:20250919T110214Z
UID:123876-1760088000-1760108400@ibecbarcelona.eu
SUMMARY:NET QUASI. Workshop 2 : Mimicking and Reprogramming Life: From Synthetic Cells and Active Matter to Smart Therapeutics
DESCRIPTION:9:20 – Registration \n9:30 – Opening — Nina Kostina \n  \nSession chair: Nina Kostina \n09:40 – Keynote speaker: Prof. Bert Poolman (University of Groningen\, NL) “Synthetic\, out-of-equilibrium cell-like systems for directing reaction networks and maintaining homeostasis” \n10:30 – Dr. Rosa Martinez-Corral (Centre for Genomic Regulation\, Barcelona\, Spain) “Context-dependency in gene regulation” \n11:05 – Prof. Marino Arroyo (Universitat Politècnica de Catalunya\, Barcelona\, Spain) Title pending \n11:40 – Dr. Mohit Kumar (University of Barcelona) “Active Phospholipid Vesicle as Cellular Membrane Mimic” \n12:15 – Coffee break \n  \nSession chair: David Esporrín Ubieto \n12:45 – Keynote speaker: Prof. Giuseppe Battaglia (IBEC\, Barcelona\, Spain) “Mimicking biological emergent properties for biomaterial design: principles and applications” \n13:30 – Carles Prado (IBEC\, Barcelona\, Spain) “Crossing the Skin Barrier: A New Role for Enzymatic Nanobots” \n  \n14:00 – Closing remarks \n 
URL:https://ibecbarcelona.eu/es/event/workshop-1-net-quasi/
LOCATION:Baobab room\, Floor 11\, Tower 1
CATEGORIES:IBEC Symposium / Conference / Congress
END:VEVENT
BEGIN:VEVENT
DTSTART;TZID=Europe/Madrid:20251016T080000
DTEND;TZID=Europe/Madrid:20251017T170000
DTSTAMP:20260422T051001
CREATED:20250704T101946Z
LAST-MODIFIED:20250704T102037Z
UID:127200-1760601600-1760720400@ibecbarcelona.eu
SUMMARY:18th IBEC annual Symposium
DESCRIPTION:The 18th IBEC annual Symposium brings together high-profile international experts for an open forum for interdisciplinary discussions and networking. This year the symposium is dedicated to Bioengineering for precision medicine\, one of IBEC’s three major application areas. \nAll scientific community is invited to participate. Attendees from IBEC and abroad are welcome to present their research or projects in poster format. Moreover\, some of these contributions will be selected by the scientific committee for an oral flash presentation. \nThis year\, the Symposium will also have a day exclusively dedicated to posters. The 16th of October the Symposium will be celebrated at the AXA Auditorium. The poster session will be celebrated the day after\, 17th of October at Sant Pau Recinte Modernista.
URL:https://ibecbarcelona.eu/es/event/18th-ibec-annual-symposium/
LOCATION:AXA Auditorium\, L'illa Diagonal\, Av. Diagonal 547 \, Barcelona\, 08029
CATEGORIES:IBEC Symposium / Conference / Congress
END:VEVENT
BEGIN:VEVENT
DTSTART;TZID=Europe/Madrid:20251023T090000
DTEND;TZID=Europe/Madrid:20251023T160000
DTSTAMP:20260422T051001
CREATED:20250116T112631Z
LAST-MODIFIED:20251015T164702Z
UID:122910-1761210000-1761235200@ibecbarcelona.eu
SUMMARY:NET-CNS. Workshop 2: Neuroengineering: Input-Output Interfaces and Interventions
DESCRIPTION:IBEC’s Bioengineering Approaches to Understand\, Model\, and Modify Healthy and Pathological central nervous system CNS Network (NET-CNS) brings together IBEC researchers to explore cutting-edge developments in CNS research — from fundamental studies to innovative therapeutic strategies. This initiative promotes interdisciplinary efforts to address CNS diseases and conditions and explore new therapeutic avenues.  \n  \nThis second workshop on October 23th will focus on emerging neurotechnologies to interface with the CNS\, including innovative strategies to record\, stimulate\, and modulate neural activity for both fundamental research and therapeutic interventions. The event will feature three lectures by leading experts:  \n  \nJohn Rogers (Northwestern University\, Chicago) developing flexible and bio-integrated electronic devices to monitor health\, interface with the nervous system\, and advance medical therapies.  \nJosep Maria Font Llagunes (Institute for Research and Innovation in Health (IRIS-UPC)\, Barcelona) developing computational methods for the analysis and prediction of human movement\, innovative robotic exoskeletons and wearable monitoring technology.  \nAureli Soria-Frisch (Starlab\, Barcelona)\, Director of Neuroscience at Starlab\, a deep tech company that develops wireless platforms and AI tools to find biomarkers to diagnose and treat brain disorders\, with applications ranging from neurodevelopment to cognitive decline in aging.  \n  \nDon’t miss this opportunity to engage with leading experts in this field and explore groundbreaking CNS research!  \n  \nWhen? Thursday 23/10/2025·09:00h – 16:00 h\nWhere? Baobab room  \n  \nRegistration is mandatory!  \nCLICK HERE TO REGISTER \n  \nWorkshop held in the framework of the IBEC Thematic Networks.  \n  \nProgramme  \n09:00 – Registration  \n09:20 – Welcome from Network Coordinator  \n09:30 – IBEC speaker: Nicolò Accanto\, Nonlinear Photonics for Neuroscience Group\, » Advanced Two-Photon Microscopy for Decoding Neuronal Circuits «   \n10:00 – Invited speaker: John Rogers\, Northwestern University\, Chicago\, “Bioelectronic Systems as Neural Interfaces”  \n11:00 – Coffee Break and Networking  \n11:30 – Invited Speaker: Aureli Soria-Frisch\, Starlab\, Barcelona\, “From Starlab to Neuroelectrics\, a neurotechnology transfer success case”  \n12:30 – IBEC speaker: Mònica Mir\, “Integrated sensors in humanized models on a chip to study neurodegeneration”  \n13:00 – Lunch Break  \n14:15 – Invited speaker: Josep M. Font-Llagunes\, «From Biomechanics to Clinical Impact: Exoskeleton and Monitoring Technologies in Neurorehabilitation”  \n15:15 – IBEC speaker: Silvia Pittolo\, Nanoprobes and Nanoswitches group\, “Exploiting new technologies to read and control brain cells and circuits in real time”  \n15:45 – End of the Workshop  \n   \nAbstracts of the plenary talks will be available here (Network programme). 
URL:https://ibecbarcelona.eu/es/event/workshop-net-cns-neuroengineering-input-output-interfaces-and-interventions/
LOCATION:Baobab room\, Floor 11\, Tower 1
CATEGORIES:IBEC Symposium / Conference / Congress
END:VEVENT
BEGIN:VEVENT
DTSTART;TZID=Europe/Madrid:20251028T093000
DTEND;TZID=Europe/Madrid:20251028T143000
DTSTAMP:20260422T051001
CREATED:20251022T100328Z
LAST-MODIFIED:20251022T100328Z
UID:129382-1761643800-1761661800@ibecbarcelona.eu
SUMMARY:Innovations in High-Plex\, Single-Cell and Spatial Targeted-Proteomics
DESCRIPTION:In a joint effort to advance proteomics research\, Standard BioTools and the Institute for Bioengineering of Catalonia (IBEC) are proud to present the symposium “Innovations in High-Plex\, Single-Cell and Spatial Targeted-Proteomics”\, which will take place on the morning of October 28\, 2025\, at the Parc Científic de Barcelona (PCB Auditorium). \nThis seminar will feature in-depth presentations from leading experts and industry professionals\, showcasing how high-plex proteomic and cytometric technologies are driving progress in translational research. \nAttendees will explore: \n\n\nHow high-dimensional flow cytometry enables deep immune profiling at the single-cell level \n\n\nHow Imaging Mass Cytometry (IMC) reveals spatial tissue organization and cellular interactions \n\n\nHow high-throughput proteomics and antibody profiling are unlocking new opportunities in biomarker discovery and disease mechanism studies \n\n\nThese innovative tools are already being integrated into a wide range of clinical and preclinical projects — come and discover how they are shaping the future of precision medicine. \nThe agenda includes expert talks on these core technologies and their applications\, featuring a guest lecture by Jolanda Sarno from the Tettamanti Research Center\, and will conclude with a panel Q&A session and a networking lunch to foster collaboration and exchange among participants.
URL:https://ibecbarcelona.eu/es/event/innovations-in-high-plex-single-cell-and-spatial-targeted-proteomics/
LOCATION:Auditori Antoni Caparrós\, PCB\, Tower D\, c/Baldiri Reixac 4-8\, Barcelona\, Spain
CATEGORIES:IBEC Symposium / Conference / Congress
END:VEVENT
END:VCALENDAR