
BEGIN:VCALENDAR
VERSION:2.0
PRODID:-//Institute for Bioengineering of Catalonia - ECPv6.15.20//NONSGML v1.0//EN
CALSCALE:GREGORIAN
METHOD:PUBLISH
X-WR-CALNAME:Institute for Bioengineering of Catalonia
X-ORIGINAL-URL:https://ibecbarcelona.eu/es/
X-WR-CALDESC:Eventos para Institute for Bioengineering of Catalonia
REFRESH-INTERVAL;VALUE=DURATION:PT1H
X-Robots-Tag:noindex
X-PUBLISHED-TTL:PT1H
BEGIN:VTIMEZONE
TZID:Europe/Madrid
BEGIN:DAYLIGHT
TZOFFSETFROM:+0100
TZOFFSETTO:+0200
TZNAME:CEST
DTSTART:20240331T010000
END:DAYLIGHT
BEGIN:STANDARD
TZOFFSETFROM:+0200
TZOFFSETTO:+0100
TZNAME:CET
DTSTART:20241027T010000
END:STANDARD
BEGIN:DAYLIGHT
TZOFFSETFROM:+0100
TZOFFSETTO:+0200
TZNAME:CEST
DTSTART:20250330T010000
END:DAYLIGHT
BEGIN:STANDARD
TZOFFSETFROM:+0200
TZOFFSETTO:+0100
TZNAME:CET
DTSTART:20251026T010000
END:STANDARD
BEGIN:DAYLIGHT
TZOFFSETFROM:+0100
TZOFFSETTO:+0200
TZNAME:CEST
DTSTART:20260329T010000
END:DAYLIGHT
BEGIN:STANDARD
TZOFFSETFROM:+0200
TZOFFSETTO:+0100
TZNAME:CET
DTSTART:20261025T010000
END:STANDARD
END:VTIMEZONE
BEGIN:VEVENT
DTSTART;TZID=Europe/Madrid:20251121T092000
DTEND;TZID=Europe/Madrid:20251121T162000
DTSTAMP:20260422T035054
CREATED:20251029T120141Z
LAST-MODIFIED:20251112T110930Z
UID:129461-1763716800-1763742000@ibecbarcelona.eu
SUMMARY:Thematic Network. NET-QUASI Workshop 3: Designing Life-like Function
DESCRIPTION:Part of the IBEC Thematic Network “Quasi-living systems: Merge and Emerge” (NET-QUASI)\, this third workshop explores how life-like function can be designed into synthetic and hybrid systems. By merging molecular\, material\, and biological approaches\, researchers are uncovering how responsiveness\, adaptability\, and collective behavior emerge across scales—from molecular assemblies and delivery systems to tissues that sense and reorganize.   \nThis session gathers leading voices in synthetic biology\, materials science\, and mechanobiology to discuss how bridging the living and synthetic worlds can inspire a new generation of functional\, adaptive systems. \n  \nAgenda  \n\n09:30 – Opening Remarks. Nina Kostina (Institute for Bioengineering of Catalonia\, Spain) \n09:40 – Keynote Lecture: Prof. Wilhelm T. S. Huck (Radboud University\, Nijmegen\, Netherlands) “Towards Molecular Networks that Learn”  \n10:35 Invited Lecture: Dr. Benjamí Oller (IQS\, Barcelona)\, “Engineering conditionally active proteins and synthetic receptors for precision delivery”  \n11:20 – IBEC Lecture: Dr. Subhadip Ghosh\, “Motility of Enzyme-Powered Protocells”  \n11:55 – Coffee Break  \n12:25 – Keynote Lecture: Prof. Kerstin Göpfrich (Center for Molecular Biology\, Heidelberg University\, Germany)\, “RNA design for quasi-living cellular systems”  \n13:10 – IBEC Lecture: Prof. César Rodríguez-Emmenegger\, “Phagocytic Synthetic Cells: Non-Living Predators to Fight Bacteria”  \n14:00 – Lunch Break  \n14:50 – Early Career IBEC Lecture: M.Sc. Aina Albajar\, “Studying the mechanical regulation of nucleocytoplasmic transport using Single Molecule Tracking”  \n15:25 – IBEC Lecture: Prof. Xavier Trepat\, “Synthetic mechanobiology of epithelial shape and migration”  \n16:10 – Closing Remarks. Nina Kostina  \n\nREGISTRATION
URL:https://ibecbarcelona.eu/es/event/thematic-network-net-quasi-workshop-3-designing-life-like-function/
LOCATION:Sala Dolors Aleu\, Cluster II\, Parc Científic de Barcelona\, Barcelona\, Spain
CATEGORIES:IBEC Symposium / Conference / Congress
END:VEVENT
END:VCALENDAR